BEGIN:VCALENDAR
VERSION:2.0
PRODID:-//ChamberMaster//Event Calendar 2.0//EN
METHOD:PUBLISH
X-PUBLISHED-TTL:P3D
REFRESH-INTERVAL:P3D
CALSCALE:GREGORIAN
BEGIN:VEVENT
DTSTART:20191208T190000Z
DTEND:20191208T213000Z
X-MICROSOFT-CDO-ALLDAYEVENT:FALSE
SUMMARY:Annual Holiday Open House
DESCRIPTION:Join the South Boston - Halifax County Museum of Fine Arts and History for music\, holiday decor\, classic holiday refreshments\, fine art and history exhibits.
X-ALT-DESC;FMTTYPE=text/html:Join the South Boston - Halifax County Museum of Fine Arts and History for music\, holiday decor\, classic holiday refreshments\, fine art and history exhibits.
LOCATION:South Boston - Halifax County Museum of Fine Arts and History 1540 Wilborn Ave. South Boston\, VA 24592
UID:e.845.15587
SEQUENCE:3
DTSTAMP:20260420T182934Z
URL:https://business.halifaxchamber.net/events/details/annual-holiday-open-house-15587
END:VEVENT

END:VCALENDAR
