BEGIN:VCALENDAR
VERSION:2.0
PRODID:-//ChamberMaster//Event Calendar 2.0//EN
METHOD:PUBLISH
X-PUBLISHED-TTL:P3D
REFRESH-INTERVAL:P3D
CALSCALE:GREGORIAN
BEGIN:VEVENT
DTSTART:20190508T163000Z
DTEND:20190508T163000Z
X-MICROSOFT-CDO-ALLDAYEVENT:FALSE
SUMMARY:Annual Memorial Service of the Chastain Home for Gentlewomen
DESCRIPTION:In honor of Mary T. Chastain\, Howell Chastain\, Elizabeth Archer Chastain\, and James B. Chastain.\n\nLight refreshments will follow the Memorial Service.\n\nThose wishing to attend the service from the Town of Halifax\, Halifax County\, or the Town of South Boston\, please send a written note\, or card\, of your plan to attend and listing your local address to:\n\nMs. Lillie Tysinger\, Acting Manager\n\nThe Chastain Home\, P.O. Box 756\n\nHalifax\, VA 24558
X-ALT-DESC;FMTTYPE=text/html:<strong>In honor of Mary T. Chastain\, Howell Chastain\, Elizabeth Archer Chastain\, and James B. Chastain.</strong><br />\nLight refreshments will follow the Memorial Service.<br />\nThose wishing to attend the service from the Town of Halifax\, Halifax County\, or the Town of South Boston\, please send a written note\, or card\, of your plan to attend and listing your local address to:<br />\nMs. Lillie Tysinger\, Acting Manager<br />\nThe Chastain Home\, P.O. Box 756<br />\nHalifax\, VA 24558
LOCATION:The Chastain Home for Gentlewomen 370 Mountain Road Halifax\, Virginia 24558
UID:e.845.12439
SEQUENCE:3
DTSTAMP:20260421T080401Z
URL:https://business.halifaxchamber.net/events/details/annual-memorial-service-of-the-chastain-home-for-gentlewomen-12439
END:VEVENT

END:VCALENDAR
