BEGIN:VCALENDAR
VERSION:2.0
PRODID:-//ChamberMaster//Event Calendar 2.0//EN
METHOD:PUBLISH
X-PUBLISHED-TTL:P3D
REFRESH-INTERVAL:P3D
CALSCALE:GREGORIAN
BEGIN:VEVENT
DTSTART:20181213T133000Z
DTEND:20181213T213000Z
X-MICROSOFT-CDO-ALLDAYEVENT:FALSE
SUMMARY:Applied Suicide Intervention Skills Training
DESCRIPTION:The ASIST program is a 2-day training for adults in any community\, group\, or organization. The program objective is to enhance participants' skills to intervene with a person with thoughts of suicide in order to achieve Safety-for-Now. The desired outcome for this program is to increase suicide intervention skills and build community networks.  For more information\, please go to www.livingworks.net/programs/asist.  \n\nTrainers will be Tammy Marshall and Beth Ann Meyer.  This training is being provided free-of-charge through a partnership between Danville-Pittsylvania Community Services\, the Southside Community Services Board\, and the Southside Wellness Coalition.
X-ALT-DESC;FMTTYPE=text/html:<strong>The ASIST program is a 2-day training for adults in any community\, group\, or organization. The program objective is to enhance participants&rsquo\; skills to intervene with a person with thoughts of suicide in order to achieve Safety-for-Now. The desired outcome for this program is to increase suicide intervention skills and build community networks.&nbsp\;&nbsp\;For more information\, please go to&nbsp\;</strong><a href="http://www.livingworks.net/programs/asist" style="color:purple\;"><strong>www.livingworks.net/programs/asist</strong></a><strong>.&nbsp\;&nbsp\;</strong><br />\nTrainers will be Tammy Marshall and Beth Ann Meyer.&nbsp\;&nbsp\;This training is being provided free-of-charge through a partnership between Danville-Pittsylvania Community Services\, the Southside Community Services Board\, and the Southside Wellness Coalition.&nbsp\;
LOCATION:
UID:e.845.8565
SEQUENCE:3
DTSTAMP:20260421T135711Z
URL:https://business.halifaxchamber.net/events/details/applied-suicide-intervention-skills-training-8565
END:VEVENT

END:VCALENDAR
