BEGIN:VCALENDAR
VERSION:2.0
PRODID:-//ChamberMaster//Event Calendar 2.0//EN
METHOD:PUBLISH
X-PUBLISHED-TTL:P3D
REFRESH-INTERVAL:P3D
CALSCALE:GREGORIAN
BEGIN:VEVENT
DTSTART:20151106T130000Z
DTEND:20151106T143000Z
X-MICROSOFT-CDO-ALLDAYEVENT:FALSE
SUMMARY:Apprenticeship and Workforce Business Opportunities Breakfast
DESCRIPTION:In celebration of National Apprenticeship Week\, employers with ties to advanced manufacturing or IT are invited to an informational meeting to provide details about the American Apprenticeship Grant and other programs that can improve your workforce and your operational costs.  It will be held on November 6\, 2015 from 8:00 am to 9:30 am at the Southern Virginia Higher Education Center\, Hope Classroom\, 820 Bruce St. South Boston\, Virginia. \n\nThe event is designed for our American Apprenticeship Grant business partners and other employers who could benefit from this collaboration.  You will learn how to participate in the grant and other workforce programs to help recruit\, train and support your workforce.\n\nPlease confirm your attendance to Pam Taylor (pam.taylor@southside.edu) by October 30\, 2015.
X-ALT-DESC;FMTTYPE=text/html:<div style="border: 1pt solid windowtext\; padding: 1pt 4pt\; background-image: initial\; background-attachment: initial\; background-size: initial\; background-origin: initial\; background-clip: initial\; background-position: initial\; background-repeat: initial\;">\n<p style="margin: 0in 0in 0.25in\; line-height: 15pt\; vertical-align: baseline\; border: none\; padding: 0in\; background-image: initial\; background-attachment: initial\; background-size: initial\; background-origin: initial\; background-clip: initial\; background-position: initial\; background-repeat: initial\;">In celebration of National Apprenticeship Week\, employers with ties to advanced manufacturing or IT&nbsp\;are invited&nbsp\;to an informational meeting to provide details about the American Apprenticeship Grant and other programs that can improve your workforce and your operational costs.&nbsp\; It will be held on November 6\, 2015 from 8:00 am to 9:30 am at the Southern Virginia Higher Education Center\, Hope Classroom\, 820 Bruce St. South Boston\, Virginia. <o:p></o:p></p>\n\n<p style="margin: 0in 0in 0.25in\; line-height: 15pt\; vertical-align: baseline\; border: none\; padding: 0in\; background-image: initial\; background-attachment: initial\; background-size: initial\; background-origin: initial\; background-clip: initial\; background-position: initial\; background-repeat: initial\;">The event is designed for our American Apprenticeship Grant business partners and other employers who could benefit from this collaboration.&nbsp\; You will learn how to participate in the grant and other workforce programs to help recruit\, train and support your workforce.<span class="msoIns"><ins><o:p></o:p></ins></span></p>\n\n<p style="margin: 0in 0in 0.25in\; line-height: 15pt\; vertical-align: baseline\; border: none\; padding: 0in\; background-image: initial\; background-attachment: initial\; background-size: initial\; background-origin: initial\; background-clip: initial\; background-position: initial\; background-repeat: initial\;">Please confirm your attendance to Pam Taylor (<a href="mailto:pam.taylor@southside.edu">pam.taylor@southside.edu</a>) by October 30\, 2015.<span class="msoIns"><ins><o:p></o:p></ins></span></p>\n</div>\n
LOCATION:Southern Virginia Higher Education Center Hope Classroom 820 Bruce St. South Boston\, Virginia.
UID:e.845.4553
SEQUENCE:3
DTSTAMP:20260425T162520Z
URL:https://business.halifaxchamber.net/events/details/apprenticeship-and-workforce-business-opportunities-breakfast-11-06-2015-4553
END:VEVENT

END:VCALENDAR
