BEGIN:VCALENDAR
VERSION:2.0
PRODID:-//ChamberMaster//Event Calendar 2.0//EN
METHOD:PUBLISH
X-PUBLISHED-TTL:P3D
REFRESH-INTERVAL:P3D
CALSCALE:GREGORIAN
BEGIN:VEVENT
DTSTART:20200422T180000Z
DTEND:20200422T190000Z
X-MICROSOFT-CDO-ALLDAYEVENT:FALSE
SUMMARY:Are You Connected? The Importance of Creating Online Connections
DESCRIPTION:Having an online presence for your business may be important now more than ever. Join us for this webinar that touches on the importance of being connected and tips on how to create successful\, profitable online connections.\n\nRegistration is required. There is no charge for members.
X-ALT-DESC;FMTTYPE=text/html:<div class="kvgmc6g5 cxmmr5t8 oygrvhab hcukyx3x c1et5uql" style="overflow-wrap: break-word\; margin: 0px\; font-family: system-ui\, -apple-system\, system-ui\, &quot\;.SFNSText-Regular&quot\;\, sans-serif\; color: rgb(5\, 5\, 5)\; font-size: 15px\;">Having an online presence for your business may be important now more than ever. Join us for this webinar that touches on the importance of being connected and tips on how to create successful\, profitable online connections.</div>\n\n<div class="o9v6fnle cxmmr5t8 oygrvhab hcukyx3x c1et5uql" style="overflow-wrap: break-word\; margin: 0.5em 0px 0px\; font-family: system-ui\, -apple-system\, system-ui\, &quot\;.SFNSText-Regular&quot\;\, sans-serif\; color: rgb(5\, 5\, 5)\; font-size: 15px\;">Registration is required. There is no charge for members.</div>\n
LOCATION:Via Zoom. The registration link will be emailed to you.
UID:e.845.17573
SEQUENCE:3
DTSTAMP:20260420T114850Z
URL:https://business.halifaxchamber.net/events/details/are-you-connected-the-importance-of-creating-online-connections-17573
END:VEVENT

END:VCALENDAR
