BEGIN:VCALENDAR
VERSION:2.0
PRODID:-//ChamberMaster//Event Calendar 2.0//EN
METHOD:PUBLISH
X-PUBLISHED-TTL:P3D
REFRESH-INTERVAL:P3D
CALSCALE:GREGORIAN
BEGIN:VEVENT
DTSTART;VALUE=DATE:20190823
DTEND;VALUE=DATE:20190826
TRANSP:TRANSPARENT
X-MICROSOFT-CDO-ALLDAYEVENT:TRUE
SUMMARY:Art & Wellness Weekend at Berry Hill Resort
DESCRIPTION:Enjoy Art & Wellness Weekend at Berry Hill Resort.\n\nWeekend activities include:\n\n	Local artists art exhibit\n	Reiki Sessions\n	Yoga Classes\n	Spa specials\n	Pool access\n	Music by Chance of Snow\n	And more!\n\nBook Now! 434-517-7000
X-ALT-DESC;FMTTYPE=text/html:Enjoy Art &amp\; Wellness Weekend at Berry Hill Resort.<br />\nWeekend activities include:\n<ul>\n	<li>Local artists art exhibit</li>\n	<li>Reiki Sessions</li>\n	<li>Yoga Classes</li>\n	<li>Spa specials</li>\n	<li>Pool access</li>\n	<li>Music by Chance of Snow</li>\n	<li>And more!</li>\n</ul>\nBook Now! 434-517-7000
LOCATION:Berry Hill Resort 3105 River Road South Boston\, VA 24592
UID:e.845.13265
SEQUENCE:3
DTSTAMP:20260421T012441Z
URL:https://business.halifaxchamber.net/events/details/art-wellness-weekend-at-berry-hill-resort-13265
END:VEVENT

END:VCALENDAR
