BEGIN:VCALENDAR
VERSION:2.0
PRODID:-//ChamberMaster//Event Calendar 2.0//EN
METHOD:PUBLISH
X-PUBLISHED-TTL:P3D
REFRESH-INTERVAL:P3D
CALSCALE:GREGORIAN
BEGIN:VEVENT
DTSTART:20170820T210000Z
DTEND:20170820T230000Z
X-MICROSOFT-CDO-ALLDAYEVENT:FALSE
SUMMARY:Art with Autumn & a Whiskey Twist
DESCRIPTION:Paint class with whiskey cocktails. \n\n$30 to participate.\n\nCocktails and food are separate.\n\n\n\n24 tickets available for this event.
X-ALT-DESC;FMTTYPE=text/html:Paint class with whiskey cocktails.&nbsp\;<br />\n$30 to participate.<br />\nCocktails and food are separate.<br />\n<br />\n24 tickets available&nbsp\;for this event.&nbsp\;
LOCATION:Springfield Distillery 9040 River Road Halifax\, VA
UID:e.845.7063
SEQUENCE:3
DTSTAMP:20260422T194618Z
URL:https://business.halifaxchamber.net/events/details/art-with-autumn-a-whiskey-twist-7063
END:VEVENT

END:VCALENDAR
