BEGIN:VCALENDAR
VERSION:2.0
PRODID:-//ChamberMaster//Event Calendar 2.0//EN
METHOD:PUBLISH
X-PUBLISHED-TTL:P3D
REFRESH-INTERVAL:P3D
CALSCALE:GREGORIAN
BEGIN:VEVENT
DTSTART:20180808T133000Z
DTEND:20180808T143000Z
X-MICROSOFT-CDO-ALLDAYEVENT:FALSE
SUMMARY:August Member Orientation
DESCRIPTION:Join us for a brief orientation on the numerous benefits and services available through your membership with Halifax County Chamber of Commerce! Orientation will be held after our Coffee & Commerce!\n\n \n\n\n	Learn about your opportunities within the Chamber\n	Hear about Chamber committees and events\n	Meet the Chamber Staff and Ambassadors\n	Introduce Your Business and tell us why you joined\n	Tell us your challenges so we can face them together
X-ALT-DESC;FMTTYPE=text/html:<div style="color: rgb(97\, 92\, 96)\; font-family: Arial\, Verdana\, Helvetica\, sans-serif\; font-size: 14px\; text-align: center\;"><span style="color: rgb(39\, 37\, 38)\; font-size: 16px\;">Join us for a brief orientation on the numerous benefits and services available through your membership with Halifax County Chamber of Commerce! Orientation will be held after our Coffee &amp\; Commerce!</span></div>\n\n<div style="color: rgb(97\, 92\, 96)\; font-family: Arial\, Verdana\, Helvetica\, sans-serif\; font-size: 14px\; text-align: center\;">&nbsp\;</div>\n\n<ul style="padding-right: 0px\; padding-left: 0px\; margin: 0px 0px 0px 40px\; color: rgb(97\, 92\, 96)\; font-family: Arial\, Verdana\, Helvetica\, sans-serif\; font-size: 14px\; text-align: center\;">\n	<li style="padding: 0px\; margin: 0px 0px 0px 3em\; line-height: 1.2\; color: rgb(39\, 37\, 38)\; font-size: 16px\; text-align: left\;">Learn about your opportunities within the Chamber</li>\n	<li style="padding: 0px\; margin: 0px 0px 0px 3em\; line-height: 1.2\; color: rgb(39\, 37\, 38)\; font-size: 16px\; text-align: left\;">Hear about Chamber committees and events</li>\n	<li style="padding: 0px\; margin: 0px 0px 0px 3em\; line-height: 1.2\; color: rgb(39\, 37\, 38)\; font-size: 16px\; text-align: left\;">Meet the Chamber Staff and Ambassadors</li>\n	<li style="padding: 0px\; margin: 0px 0px 0px 3em\; line-height: 1.2\; color: rgb(39\, 37\, 38)\; font-size: 16px\; text-align: left\;">Introduce Your Business and tell us why you joined</li>\n	<li style="padding: 0px\; margin: 0px 0px 0px 3em\; line-height: 1.2\; color: rgb(39\, 37\, 38)\; font-size: 16px\; text-align: left\;">Tell us your challenges so we can face them together</li>\n</ul>\n
LOCATION:Fairfield Inn & Suites by Marriott 1120 Bill Tuck Highway South Boston\, VA 24592
UID:e.845.8472
SEQUENCE:3
DTSTAMP:20260421T203944Z
URL:https://business.halifaxchamber.net/events/details/august-member-orientation-8472
END:VEVENT

END:VCALENDAR
