BEGIN:VCALENDAR
VERSION:2.0
PRODID:-//ChamberMaster//Event Calendar 2.0//EN
METHOD:PUBLISH
X-PUBLISHED-TTL:P3D
REFRESH-INTERVAL:P3D
CALSCALE:GREGORIAN
BEGIN:VEVENT
DTSTART:20170427T223000Z
DTEND:20170428T000000Z
X-MICROSOFT-CDO-ALLDAYEVENT:FALSE
SUMMARY:Author Kelly Cherry At The South Boston Public Library
DESCRIPTION:Kelly Cherry\, former Poet Laureate of Virginia\, will be speaking at the South Boston Public Library . Her latest book of poetry is entitled Quartet for J. Robert Oppenheimer. Ms. Cherry will be reading selections from her new book on April 27. She will also have copies for sale and will be signing books after her reading. Light refreshments will be available after the reading.
X-ALT-DESC;FMTTYPE=text/html:Kelly Cherry\, former Poet Laureate of Virginia\, will be speaking at the South Boston Public Library . Her latest book of poetry is entitled Quartet for J. Robert Oppenheimer. Ms. Cherry will be reading selections from her new book on April 27. She will also have copies for sale and will be signing books after her reading. Light refreshments will be available after the reading.
LOCATION:South Boston Public Library
UID:e.845.5793
SEQUENCE:3
DTSTAMP:20260424T114203Z
URL:https://business.halifaxchamber.net/events/details/author-kelly-cherry-at-the-south-boston-public-library-5793
END:VEVENT

END:VCALENDAR
