BEGIN:VCALENDAR
VERSION:2.0
PRODID:-//ChamberMaster//Event Calendar 2.0//EN
METHOD:PUBLISH
X-PUBLISHED-TTL:P3D
REFRESH-INTERVAL:P3D
CALSCALE:GREGORIAN
BEGIN:VEVENT
DTSTART:20191102T190000Z
DTEND:20191102T230000Z
X-MICROSOFT-CDO-ALLDAYEVENT:FALSE
SUMMARY:AutosbyNelson CARS Tour Series
DESCRIPTION:CARS Tour Series LMSC / SLM
X-ALT-DESC;FMTTYPE=text/html:CARS Tour Series LMSC / SLM
LOCATION:South Boston Speedway 1188 James D Hagood Hwy South Boston\, VA 24592
UID:e.845.11982
SEQUENCE:3
DTSTAMP:20260420T200215Z
URL:https://business.halifaxchamber.net/events/details/autosbynelson-cars-tour-series-11982
END:VEVENT

END:VCALENDAR
