BEGIN:VCALENDAR
VERSION:2.0
PRODID:-//ChamberMaster//Event Calendar 2.0//EN
METHOD:PUBLISH
X-PUBLISHED-TTL:P3D
REFRESH-INTERVAL:P3D
CALSCALE:GREGORIAN
BEGIN:VEVENT
DTSTART:20190803T140000Z
DTEND:20190803T180000Z
X-MICROSOFT-CDO-ALLDAYEVENT:FALSE
SUMMARY:Back-2-School Expo
DESCRIPTION:Join Halifax County Public Schools for the 2019 Back-2-School Expo!\n\nEnjoy:\n\n	Free school supplies!\n	Lunch provided\n	Informational vendors\n	Entertainment by HCHS Cheerleaders and HCHS Band\n	William Denson - Motivational speaker\n	Interactive Robotic Team activities\n	Book bags - limited supply\n\nServices provided:\n\n\n	Assistance with using parent portal\n	Information provided for operations of all schools in the school district\n	Demonstration of healthy eating dishes\n	Free food samples\n	Free blood pressure checks\n	Exploration of Science\, Technology\, Engineering\, and Math Lab\n	Connection with the Mentor Role Model Program services
X-ALT-DESC;FMTTYPE=text/html:Join Halifax County Public Schools for the 2019 Back-2-School Expo!<br />\nEnjoy:\n<ul>\n	<li>Free school supplies!</li>\n	<li>Lunch provided</li>\n	<li>Informational vendors</li>\n	<li>Entertainment by HCHS Cheerleaders and HCHS Band</li>\n	<li>William Denson - Motivational speaker</li>\n	<li>Interactive Robotic Team activities</li>\n	<li>Book bags - limited supply</li>\n</ul>\nServices provided:\n\n<ul>\n	<li>Assistance with using parent portal</li>\n	<li>Information provided for operations of all schools in the school district</li>\n	<li>Demonstration of healthy eating dishes</li>\n	<li>Free food samples</li>\n	<li>Free blood pressure checks</li>\n	<li>Exploration of Science\, Technology\, Engineering\, and Math Lab</li>\n	<li>Connection with the Mentor Role Model Program services</li>\n</ul>\n
LOCATION:Halifax County High School 1 High School Circle South Boston\, VA 24592
UID:e.845.13206
SEQUENCE:3
DTSTAMP:20260421T025451Z
URL:https://business.halifaxchamber.net/events/details/back-2-school-expo-13206
END:VEVENT

END:VCALENDAR
