BEGIN:VCALENDAR
VERSION:2.0
PRODID:-//ChamberMaster//Event Calendar 2.0//EN
METHOD:PUBLISH
X-PUBLISHED-TTL:P3D
REFRESH-INTERVAL:P3D
CALSCALE:GREGORIAN
BEGIN:VEVENT
DTSTART:20190701T220000Z
DTEND:20190701T220000Z
X-MICROSOFT-CDO-ALLDAYEVENT:FALSE
SUMMARY:Badcock Home Furniture & More Ribbon Cutting
DESCRIPTION:Please join the W.S. Badcock Corporation's Board of Directors and Stockholders as we mark this momentous occasion with a ribbon cutting celebration our Grand Opening at our new South Boston store location.
X-ALT-DESC;FMTTYPE=text/html:Please join the W.S. Badcock Corporation&#39\;s Board of Directors and Stockholders as we mark this momentous occasion with a ribbon cutting celebration our Grand Opening at our new South Boston store location.&nbsp\;
LOCATION:2205 Wilborn Avenue South Boston\, VA 24592
UID:e.845.13173
SEQUENCE:3
DTSTAMP:20260421T031856Z
URL:https://business.halifaxchamber.net/events/details/badcock-home-furniture-more-ribbon-cutting-13173
END:VEVENT

END:VCALENDAR
