BEGIN:VCALENDAR
VERSION:2.0
PRODID:-//ChamberMaster//Event Calendar 2.0//EN
METHOD:PUBLISH
X-PUBLISHED-TTL:P3D
REFRESH-INTERVAL:P3D
CALSCALE:GREGORIAN
BEGIN:VEVENT
DTSTART:20200704T000000Z
DTEND:20200704T035500Z
X-MICROSOFT-CDO-ALLDAYEVENT:FALSE
SUMMARY:Badeaux's Pre-fourth Celebration with Public Consumption
DESCRIPTION:Public Consumption brings the fun back with no cover and a limit of 75 people on first come first served basis.
X-ALT-DESC;FMTTYPE=text/html:<span style="color: rgb(5\, 5\, 5)\; font-family: system-ui\, -apple-system\, system-ui\, &quot\;.SFNSText-Regular&quot\;\, sans-serif\; font-size: 15px\;">Public Consumption brings the fun back with no cover and a limit of 75 people on first come first served basis.</span>
LOCATION:Badeaux's Seafood & Grill 2001 Seymour Dr South Boston\, VA 24592
UID:e.845.17712
SEQUENCE:3
DTSTAMP:20260420T062801Z
URL:https://business.halifaxchamber.net/events/details/badeaux-s-pre-fourth-celebration-with-public-consumption-17712
END:VEVENT

END:VCALENDAR
