BEGIN:VCALENDAR
VERSION:2.0
PRODID:-//ChamberMaster//Event Calendar 2.0//EN
METHOD:PUBLISH
X-PUBLISHED-TTL:P3D
REFRESH-INTERVAL:P3D
CALSCALE:GREGORIAN
BEGIN:VEVENT
DTSTART:20181219T220000Z
DTEND:20181220T000000Z
X-MICROSOFT-CDO-ALLDAYEVENT:FALSE
SUMMARY:Bagwell& Bagwell Christmas Open House
DESCRIPTION:Christmas Open House Bagwell & Bagwell\, PC\n\nYou are invited to a night of Hors d'oeuvres and Spirits to suit
X-ALT-DESC;FMTTYPE=text/html:Christmas Open House Bagwell &amp\; Bagwell\, PC<br />\nYou are invited to a night of Hors d&#39\;oeuvres and Spirits to suit
LOCATION:Bagwell & Bagwell\, PC 47 S. Main Street Halifax\, VA
UID:e.845.8815
SEQUENCE:3
DTSTAMP:20260421T153213Z
URL:https://business.halifaxchamber.net/events/details/bagwell-bagwell-christmas-open-house-8815
END:VEVENT

END:VCALENDAR
