BEGIN:VCALENDAR
VERSION:2.0
PRODID:-//ChamberMaster//Event Calendar 2.0//EN
METHOD:PUBLISH
X-PUBLISHED-TTL:P3D
REFRESH-INTERVAL:P3D
CALSCALE:GREGORIAN
BEGIN:VEVENT
DTSTART:20191224T020000Z
DTEND:20191224T045500Z
X-MICROSOFT-CDO-ALLDAYEVENT:FALSE
SUMMARY:Bah Hum Bug Bowl
DESCRIPTION:Bring in your resting Grinch Face and bowl off some holiday stress.\n\n$10/person for unlimited bowling.\n\nBring in a crappy (yet tasteful) gift to share.\n\nCostumes encouraged. Prizes for best costumes!
X-ALT-DESC;FMTTYPE=text/html:Bring in your resting Grinch Face and bowl off some holiday stress.<br />\n$10/person for unlimited bowling.<br />\nBring in a crappy (yet tasteful) gift to share.<br />\nCostumes encouraged. Prizes for best costumes!
LOCATION:World of Sports 2030 Bill Tuck Hwy South Boston\, VA 24592
UID:e.845.15622
SEQUENCE:3
DTSTAMP:20260420T195821Z
URL:https://business.halifaxchamber.net/events/details/bah-hum-bug-bowl-15622
END:VEVENT

END:VCALENDAR
