BEGIN:VCALENDAR
VERSION:2.0
PRODID:-//ChamberMaster//Event Calendar 2.0//EN
METHOD:PUBLISH
X-PUBLISHED-TTL:P3D
REFRESH-INTERVAL:P3D
CALSCALE:GREGORIAN
BEGIN:VEVENT
DTSTART:20190217T020000Z
DTEND:20190217T045500Z
X-MICROSOFT-CDO-ALLDAYEVENT:FALSE
SUMMARY:!!!BAM!!! live at the World of Sports
DESCRIPTION:!!!BAM!!! performing live at the World of Sports for the first time.  9:00 - midnight\n\nCome in early for Dinner.  Special 3 course Valentine's menu $30 per couple
X-ALT-DESC;FMTTYPE=text/html:!!!BAM!!! performing live at the World of Sports for the first time. &nbsp\;9:00 - midnight<br />\nCome in early for Dinner. &nbsp\;Special 3 course Valentine&#39\;s menu $30 per couple<br />\n&nbsp\;
LOCATION:World of Sports 2030 Bill Tuck Highway South Boston\, VA 24592
UID:e.845.12032
SEQUENCE:3
DTSTAMP:20260423T091108Z
URL:https://business.halifaxchamber.net/events/details/bam-live-at-the-world-of-sports-12032
END:VEVENT

END:VCALENDAR
