BEGIN:VCALENDAR
VERSION:2.0
PRODID:-//ChamberMaster//Event Calendar 2.0//EN
METHOD:PUBLISH
X-PUBLISHED-TTL:P3D
REFRESH-INTERVAL:P3D
CALSCALE:GREGORIAN
BEGIN:VEVENT
DTSTART:20190921T140000Z
DTEND:20190921T190000Z
X-MICROSOFT-CDO-ALLDAYEVENT:FALSE
SUMMARY:Banister River Flotsam Flotilla River Clean-Up
DESCRIPTION:p.p1 {margin: 0.0px 0.0px 0.0px 0.0px\; font: 10.0px 'Helvetica Neue'\; color: #454a4e}\nspan.s1 {font-kerning: none}\n\nJoin the volunteer clean up - Flotsam Flotilla on the Banister River! First 25 registrants will receive a free T shirt! All participants will experience the satisfaction of cleaning up this State Scenic River listed as one of Virginia's Treasures.\n\n \n\nDon't have a boat? Don't let that stop you\, free canoes will be provided by Staunton River State Park for a limited number\, so register now!\n\n\n\nFor more information and to register go to:\n\nhttps://www.eventbrite.com/e/banister-river-flotsam-flotilla-river-clean-up-tickets-70814440899?aff=efbneb&fbclid=IwAR14JUbvgLJdYWYhAdbPQNlLMsOXzqhkIfyuQq_IoiFWELJtnzy6f4dSup8
X-ALT-DESC;FMTTYPE=text/html:<style type="text/css">p.p1 {margin: 0.0px 0.0px 0.0px 0.0px\; font: 10.0px 'Helvetica Neue'\; color: #454a4e}\nspan.s1 {font-kerning: none}\n</style>\n<p class="p1"><span style="font-size:12px\;"><span class="s1">Join the volunteer clean up - Flotsam Flotilla on the Banister River! First 25 registrants will receive a free T shirt! All participants will experience the satisfaction of cleaning up this State Scenic River listed as one of Virginia&rsquo\;s Treasures.</span></span></p>\n\n<p class="p1">&nbsp\;</p>\n\n<p class="p1"><span style="font-size:12px\;"><span class="s1">Don&#39\;t have a boat? Don&#39\;t let that stop you\, free canoes will be provided by Staunton River State Park for a limited number\, so register now!<br />\n<br />\nFor more information and to register go to:</span></span><br />\n<a href="https://www.eventbrite.com/e/banister-river-flotsam-flotilla-river-clean-up-tickets-70814440899?aff=efbneb&amp\;fbclid=IwAR14JUbvgLJdYWYhAdbPQNlLMsOXzqhkIfyuQq_IoiFWELJtnzy6f4dSup8">https://www.eventbrite.com/e/banister-river-flotsam-flotilla-river-clean-up-tickets-70814440899?aff=efbneb&amp\;fbclid=IwAR14JUbvgLJdYWYhAdbPQNlLMsOXzqhkIfyuQq_IoiFWELJtnzy6f4dSup8</a></p>\n
LOCATION:1041 Bethel Road Halifax\, VA 24558
UID:e.845.13284
SEQUENCE:3
DTSTAMP:20260420T234433Z
URL:https://business.halifaxchamber.net/events/details/banister-river-flotsam-flotilla-river-clean-up-13284
END:VEVENT

END:VCALENDAR
