BEGIN:VCALENDAR
VERSION:2.0
PRODID:-//ChamberMaster//Event Calendar 2.0//EN
METHOD:PUBLISH
X-PUBLISHED-TTL:P3D
REFRESH-INTERVAL:P3D
CALSCALE:GREGORIAN
BEGIN:VEVENT
DTSTART:20190123T223000Z
DTEND:20190123T233000Z
X-MICROSOFT-CDO-ALLDAYEVENT:FALSE
SUMMARY:Barn Quilt Trail Meeting
DESCRIPTION:Halifax County Barn Quilt Trail Gathering and Informational Meeting. Come meet those that are on the Trail or come find out more information about the Barn Quilt Trail. Join the Halifax Barn Quilt Trail
X-ALT-DESC;FMTTYPE=text/html:Halifax County Barn Quilt Trail Gathering and Informational Meeting. Come meet those that are on the Trail or come find out more information about the Barn Quilt Trail. Join the Halifax Barn Quilt Trail
LOCATION:Halifax-South Boston Visitors Center
UID:e.845.11449
SEQUENCE:3
DTSTAMP:20260421T135938Z
URL:https://business.halifaxchamber.net/events/details/barn-quilt-trail-meeting-11449
END:VEVENT

END:VCALENDAR
