BEGIN:VCALENDAR
VERSION:2.0
PRODID:-//ChamberMaster//Event Calendar 2.0//EN
METHOD:PUBLISH
X-PUBLISHED-TTL:P3D
REFRESH-INTERVAL:P3D
CALSCALE:GREGORIAN
BEGIN:VEVENT
DTSTART:20190503T220000Z
DTEND:20190504T020000Z
X-MICROSOFT-CDO-ALLDAYEVENT:FALSE
SUMMARY:Bearded Whiskey Hosted by Springfield Distillery
DESCRIPTION:Bearded Whiskey Hosted by Springfield Distillery\n\n\n\nRescheduled from last year!\n\nSuper excited to have them for our First Friday music event!\n\nBuggs Island Brewery is back!!!!
X-ALT-DESC;FMTTYPE=text/html:Bearded Whiskey Hosted by Springfield Distillery<br />\n<br />\n<span style="caret-color: rgb(29\, 33\, 41)\; color: rgb(29\, 33\, 41)\; font-family: system-ui\, -apple-system\, BlinkMacSystemFont\, &quot\;.SFNSText-Regular&quot\;\, sans-serif\; font-size: 14px\; white-space: pre-wrap\; background-color: rgb(255\, 255\, 255)\;">Rescheduled from last year!</span><br style="caret-color: rgb(29\, 33\, 41)\; color: rgb(29\, 33\, 41)\; font-family: system-ui\, -apple-system\, BlinkMacSystemFont\, &quot\;.SFNSText-Regular&quot\;\, sans-serif\; font-size: 14px\; white-space: pre-wrap\;" />\n<span style="caret-color: rgb(29\, 33\, 41)\; color: rgb(29\, 33\, 41)\; font-family: system-ui\, -apple-system\, BlinkMacSystemFont\, &quot\;.SFNSText-Regular&quot\;\, sans-serif\; font-size: 14px\; white-space: pre-wrap\; background-color: rgb(255\, 255\, 255)\;">Super excited to have them for our First Friday music event!</span><br style="caret-color: rgb(29\, 33\, 41)\; color: rgb(29\, 33\, 41)\; font-family: system-ui\, -apple-system\, BlinkMacSystemFont\, &quot\;.SFNSText-Regular&quot\;\, sans-serif\; font-size: 14px\; white-space: pre-wrap\;" />\n<span style="caret-color: rgb(29\, 33\, 41)\; color: rgb(29\, 33\, 41)\; font-family: system-ui\, -apple-system\, BlinkMacSystemFont\, &quot\;.SFNSText-Regular&quot\;\, sans-serif\; font-size: 14px\; white-space: pre-wrap\; background-color: rgb(255\, 255\, 255)\;">Buggs Island Brewery is back!!!!</span>
LOCATION:Springfield Distillery Halifax\, VA
UID:e.845.12379
SEQUENCE:3
DTSTAMP:20260421T062400Z
URL:https://business.halifaxchamber.net/events/details/bearded-whiskey-hosted-by-springfield-distillery-12379
END:VEVENT

END:VCALENDAR
