BEGIN:VCALENDAR
VERSION:2.0
PRODID:-//ChamberMaster//Event Calendar 2.0//EN
METHOD:PUBLISH
X-PUBLISHED-TTL:P3D
REFRESH-INTERVAL:P3D
CALSCALE:GREGORIAN
BEGIN:VEVENT
DTSTART:20170715T200000Z
DTEND:20170716T000000Z
X-MICROSOFT-CDO-ALLDAYEVENT:FALSE
SUMMARY:Becky and Gary Wright at Springfield Distillery
DESCRIPTION:The Father/Daughter Duo\, Becky and Gary Wright will be performing live at Springfield Distillery from 4PM - 8PM on Saturday\, July 15th.
X-ALT-DESC;FMTTYPE=text/html:The Father/Daughter Duo\, Becky and Gary Wright will be performing live at Springfield Distillery from 4PM - 8PM on Saturday\, July 15th.
LOCATION:Springfield Distillery 9040 River Road Halifax\, VA
UID:e.845.5982
SEQUENCE:3
DTSTAMP:20260422T194035Z
URL:https://business.halifaxchamber.net/events/details/becky-and-gary-wright-at-springfield-distillery-5982
END:VEVENT

END:VCALENDAR
