BEGIN:VCALENDAR
VERSION:2.0
PRODID:-//ChamberMaster//Event Calendar 2.0//EN
METHOD:PUBLISH
X-PUBLISHED-TTL:P3D
REFRESH-INTERVAL:P3D
CALSCALE:GREGORIAN
BEGIN:VEVENT
DTSTART:20181214T140000Z
DTEND:20181214T220000Z
X-MICROSOFT-CDO-ALLDAYEVENT:FALSE
SUMMARY:Benchmark Annual Holiday Open House
DESCRIPTION:Please join Benchmark Community Bank for their Annual Holiday Open House event! Stop by and enjoy refreshments and pick up your 2019 calendar!
X-ALT-DESC;FMTTYPE=text/html:Please join Benchmark Community Bank for their Annual Holiday Open House event! Stop by and enjoy refreshments and pick up your 2019 calendar!&nbsp\;&nbsp\;&nbsp\;&nbsp\;
LOCATION:Halifax Location: 290 S. Main Street\, Halifax\, VA South Boston: Routes 58 & 501
UID:e.845.9637
SEQUENCE:3
DTSTAMP:20260421T135934Z
URL:https://business.halifaxchamber.net/events/details/benchmark-annual-holiday-open-house-9637
END:VEVENT

END:VCALENDAR
