BEGIN:VCALENDAR
VERSION:2.0
PRODID:-//ChamberMaster//Event Calendar 2.0//EN
METHOD:PUBLISH
X-PUBLISHED-TTL:P3D
REFRESH-INTERVAL:P3D
CALSCALE:GREGORIAN
BEGIN:VEVENT
DTSTART:20191213T140000Z
DTEND:20191213T220000Z
X-MICROSOFT-CDO-ALLDAYEVENT:FALSE
SUMMARY:Benchmark Holiday Open House
DESCRIPTION:Please join us for our annual Holiday Open House on Friday\, December 13 at any of our 16 branches.\n\n\n\nStop by anytime from 9 a.m. to 5 p.m.\, fellowship with our staff members\, enjoy some refreshments\, and pick up our 2020 calendar\, "First Impressions."\n\n\n\nWe look forward to seeing you and celebrating the season with you!\n\n\n\nBenchmark Community Bank. With you for Life!\n\nMember FDIC. Equal Housing Lender.
X-ALT-DESC;FMTTYPE=text/html:<span style="color:rgb(29\, 33\, 41)\; font-family:system-ui\,-apple-system\,system-ui\,.sfnstext-regular\,sans-serif\; font-size:14px">Please join us for our annual Holiday Open House on Friday\, December 13 at any of our 16 branches.</span><br />\n<br />\n<span style="color:rgb(29\, 33\, 41)\; font-family:system-ui\,-apple-system\,system-ui\,.sfnstext-regular\,sans-serif\; font-size:14px">Stop by anytime from 9 a.m. to 5 p.m.\, fellowship with our staff members\, enjoy some refreshments\, and pick up our 2020 calendar\, &quot\;First Impressions.&quot\;</span><br />\n<br />\n<span style="color:rgb(29\, 33\, 41)\; font-family:system-ui\,-apple-system\,system-ui\,.sfnstext-regular\,sans-serif\; font-size:14px">We look forward to seeing you and celebrating the season with you!<br />\n<br />\nBenchmark Community Bank. With you for Life!</span><br />\n<span style="color:rgb(29\, 33\, 41)\; font-family:system-ui\,-apple-system\,system-ui\,.sfnstext-regular\,sans-serif\; font-size:14px">Member FDIC. Equal Housing Lender.</span>
LOCATION:
UID:e.845.15575
SEQUENCE:3
DTSTAMP:20260420T195825Z
URL:https://business.halifaxchamber.net/events/details/benchmark-holiday-open-house-15575
END:VEVENT

END:VCALENDAR
