BEGIN:VCALENDAR
VERSION:2.0
PRODID:-//ChamberMaster//Event Calendar 2.0//EN
METHOD:PUBLISH
X-PUBLISHED-TTL:P3D
REFRESH-INTERVAL:P3D
CALSCALE:GREGORIAN
BEGIN:VEVENT
DTSTART:20181216T233000Z
DTEND:20181217T010000Z
X-MICROSOFT-CDO-ALLDAYEVENT:FALSE
SUMMARY:Bethel Baptist Church Christmas Play
DESCRIPTION:Everyone is invited to our annual Christmas Play at Bethel Baptist. The play this year is light-hearted entertainment showing us that even if we forget certain aspects of Christmas\, we can always remember the true meaning for the season. We will have an ice cream social to follow in the fellowship hall. Everyone is invited.
X-ALT-DESC;FMTTYPE=text/html:Everyone is invited to our annual Christmas Play at Bethel Baptist. The play this year is light-hearted entertainment showing us that even if we forget certain aspects of Christmas\, we can always remember the true meaning for the season. We will have an ice cream social to follow in the fellowship hall. Everyone is invited.
LOCATION:Bethel Baptist Church 4198 Bethel Road Scottsburg VA
UID:e.845.11446
SEQUENCE:3
DTSTAMP:20260421T140501Z
URL:https://business.halifaxchamber.net/events/details/bethel-baptist-church-christmas-play-11446
END:VEVENT

END:VCALENDAR
