BEGIN:VCALENDAR
VERSION:2.0
PRODID:-//ChamberMaster//Event Calendar 2.0//EN
METHOD:PUBLISH
X-PUBLISHED-TTL:P3D
REFRESH-INTERVAL:P3D
CALSCALE:GREGORIAN
BEGIN:VEVENT
DTSTART:20191130T000000Z
DTEND:20191130T040000Z
X-MICROSOFT-CDO-ALLDAYEVENT:FALSE
SUMMARY:Black Friday Concert
DESCRIPTION:Enjoy Hugh Vaughn & Long Shadow Live at Berry Hill.\n\nNo cover. Cash bar.
X-ALT-DESC;FMTTYPE=text/html:Enjoy Hugh Vaughn &amp\; Long Shadow Live at Berry Hill.<br />\nNo cover. Cash bar.
LOCATION:Berry Hill Ballroom 3105 River Road South Boston\, VA 24592
UID:e.845.15565
SEQUENCE:3
DTSTAMP:20260420T195902Z
URL:https://business.halifaxchamber.net/events/details/black-friday-concert-15565
END:VEVENT

END:VCALENDAR
