BEGIN:VCALENDAR
VERSION:2.0
PRODID:-//ChamberMaster//Event Calendar 2.0//EN
METHOD:PUBLISH
X-PUBLISHED-TTL:P3D
REFRESH-INTERVAL:P3D
CALSCALE:GREGORIAN
BEGIN:VEVENT
DTSTART:20171109T230000Z
DTEND:20171110T010000Z
X-MICROSOFT-CDO-ALLDAYEVENT:FALSE
SUMMARY:Blend & Brew: Virginia Splatter Art Paint Night
DESCRIPTION:Join Studio Luxe for a fun night of splatter art as we pay homage to our home state- Virginia! This splatter art is fun\, easy\, and can be color coordinated to your home.\n\nSans Soucy Vineyards/ Staunton River Brewing Co\n\n1571 Mount Calvary Rd\n\nBrookneal\, VA 24528\n\n6-8pm Thursday\, November 9th\n\n\n\nWe'll have PLENTY of colors to choose from\, and will show you the perfect technique to create this 12x12 canvas work of art! \n\n\n\nAfter painting\, hang around for a bit and enjoy food from Vittles SoCo Kitchen\, or sangria\, wine\, or beer- crafted right there on the farm- just like your custom art piece!\n\n\n\nOnce your piece has had a chance to dry\, you'll be able to add a gold or silver heart over the location of your hometown.\n\nThese make great gifts for friends\, family\, or to keep for your own home. Seriously\, they're so cool\, you may not want to share!\n\n\n\nArt Fee: $20\n\nAges 12 and up\n\nPlenty of non-alcoholic beverages and food will be available for purchase!
X-ALT-DESC;FMTTYPE=text/html:<span style="color: rgb(75\, 79\, 86)\; font-family: &quot\;SF Optimized&quot\;\, system-ui\, -apple-system\, system-ui\, &quot\;.SFNSText-Regular&quot\;\, sans-serif\; font-size: 14px\; letter-spacing: -0.12px\;">Join Studio Luxe for a fun night of splatter art as we pay homage to our home state- Virginia! This splatter art is fun\, easy\, and can be color coordinated to your home.</span><br style="color: rgb(75\, 79\, 86)\; font-family: &quot\;SF Optimized&quot\;\, system-ui\, -apple-system\, system-ui\, &quot\;.SFNSText-Regular&quot\;\, sans-serif\; font-size: 14px\; letter-spacing: -0.12px\;" />\n<span style="color: rgb(75\, 79\, 86)\; font-family: &quot\;SF Optimized&quot\;\, system-ui\, -apple-system\, system-ui\, &quot\;.SFNSText-Regular&quot\;\, sans-serif\; font-size: 14px\; letter-spacing: -0.12px\;">Sans Soucy Vineyards/ Staunton River Brewing Co</span><br style="color: rgb(75\, 79\, 86)\; font-family: &quot\;SF Optimized&quot\;\, system-ui\, -apple-system\, system-ui\, &quot\;.SFNSText-Regular&quot\;\, sans-serif\; font-size: 14px\; letter-spacing: -0.12px\;" />\n<span style="color: rgb(75\, 79\, 86)\; font-family: &quot\;SF Optimized&quot\;\, system-ui\, -apple-system\, system-ui\, &quot\;.SFNSText-Regular&quot\;\, sans-serif\; font-size: 14px\; letter-spacing: -0.12px\;">1571 Mount Calvary Rd</span><br style="color: rgb(75\, 79\, 86)\; font-family: &quot\;SF Optimized&quot\;\, system-ui\, -apple-system\, system-ui\, &quot\;.SFNSText-Regular&quot\;\, sans-serif\; font-size: 14px\; letter-spacing: -0.12px\;" />\n<span style="color: rgb(75\, 79\, 86)\; font-family: &quot\;SF Optimized&quot\;\, system-ui\, -apple-system\, system-ui\, &quot\;.SFNSText-Regular&quot\;\, sans-serif\; font-size: 14px\; letter-spacing: -0.12px\;">Brookneal\, VA 24528</span><br style="color: rgb(75\, 79\, 86)\; font-family: &quot\;SF Optimized&quot\;\, system-ui\, -apple-system\, system-ui\, &quot\;.SFNSText-Regular&quot\;\, sans-serif\; font-size: 14px\; letter-spacing: -0.12px\;" />\n<span style="color: rgb(75\, 79\, 86)\; font-family: &quot\;SF Optimized&quot\;\, system-ui\, -apple-system\, system-ui\, &quot\;.SFNSText-Regular&quot\;\, sans-serif\; font-size: 14px\; letter-spacing: -0.12px\;">6-8pm Thursday\, November 9th</span><br style="color: rgb(75\, 79\, 86)\; font-family: &quot\;SF Optimized&quot\;\, system-ui\, -apple-system\, system-ui\, &quot\;.SFNSText-Regular&quot\;\, sans-serif\; font-size: 14px\; letter-spacing: -0.12px\;" />\n<br style="color: rgb(75\, 79\, 86)\; font-family: &quot\;SF Optimized&quot\;\, system-ui\, -apple-system\, system-ui\, &quot\;.SFNSText-Regular&quot\;\, sans-serif\; font-size: 14px\; letter-spacing: -0.12px\;" />\n<span style="color: rgb(75\, 79\, 86)\; font-family: &quot\;SF Optimized&quot\;\, system-ui\, -apple-system\, system-ui\, &quot\;.SFNSText-Regular&quot\;\, sans-serif\; font-size: 14px\; letter-spacing: -0.12px\;">We&#39\;ll have PLENTY of colors to choose from\, and will show you the perfect technique to create this 12x12 canvas work of art!&nbsp\;</span><br style="color: rgb(75\, 79\, 86)\; font-family: &quot\;SF Optimized&quot\;\, system-ui\, -apple-system\, system-ui\, &quot\;.SFNSText-Regular&quot\;\, sans-serif\; font-size: 14px\; letter-spacing: -0.12px\;" />\n<br style="color: rgb(75\, 79\, 86)\; font-family: &quot\;SF Optimized&quot\;\, system-ui\, -apple-system\, system-ui\, &quot\;.SFNSText-Regular&quot\;\, sans-serif\; font-size: 14px\; letter-spacing: -0.12px\;" />\n<span style="color: rgb(75\, 79\, 86)\; font-family: &quot\;SF Optimized&quot\;\, system-ui\, -apple-system\, system-ui\, &quot\;.SFNSText-Regular&quot\;\, sans-serif\; font-size: 14px\; letter-spacing: -0.12px\;">After painting\, hang around for a bit and enjoy food from Vittles SoCo Kitchen\, or sangria\, wine\, or beer- crafted right there on the farm- just like your custom art piece!</span><br style="color: rgb(75\, 79\, 86)\; font-family: &quot\;SF Optimized&quot\;\, system-ui\, -apple-system\, system-ui\, &quot\;.SFNSText-Regular&quot\;\, sans-serif\; font-size: 14px\; letter-spacing: -0.12px\;" />\n<br style="color: rgb(75\, 79\, 86)\; font-family: &quot\;SF Optimized&quot\;\, system-ui\, -apple-system\, system-ui\, &quot\;.SFNSText-Regular&quot\;\, sans-serif\; font-size: 14px\; letter-spacing: -0.12px\;" />\n<span style="color: rgb(75\, 79\, 86)\; font-family: &quot\;SF Optimized&quot\;\, system-ui\, -apple-system\, system-ui\, &quot\;.SFNSText-Regular&quot\;\, sans-serif\; font-size: 14px\; letter-spacing: -0.12px\;">Once your piece has had a chance to dry\, you&#39\;ll be able to add a gold or silver heart over the location of your hometown.</span><br style="color: rgb(75\, 79\, 86)\; font-family: &quot\;SF Optimized&quot\;\, system-ui\, -apple-system\, system-ui\, &quot\;.SFNSText-Regular&quot\;\, sans-serif\; font-size: 14px\; letter-spacing: -0.12px\;" />\n<span style="color: rgb(75\, 79\, 86)\; font-family: &quot\;SF Optimized&quot\;\, system-ui\, -apple-system\, system-ui\, &quot\;.SFNSText-Regular&quot\;\, sans-serif\; font-size: 14px\; letter-spacing: -0.12px\;">These ma</span><span class="text_exposed_show" style="display: inline\; font-family: &quot\;SF Optimized&quot\;\, system-ui\, -apple-system\, system-ui\, &quot\;.SFNSText-Regular&quot\;\, sans-serif\; color: rgb(75\, 79\, 86)\; font-size: 14px\; letter-spacing: -0.12px\;">ke great gifts for friends\, family\, or to keep for your own home. Seriously\, they&#39\;re so cool\, you may not want to share!<br />\n<br />\nArt Fee: $20<br />\nAges 12 and up<br />\nPlenty of non-alcoholic beverages and food will be available for purchase!</span>
LOCATION:Staunton River Brewing Co. 1571 Mount Calvary Road Brookneal\, VA
UID:e.845.7145
SEQUENCE:3
DTSTAMP:20260422T121054Z
URL:https://business.halifaxchamber.net/events/details/blend-brew-virginia-splatter-art-paint-night-7145
END:VEVENT

END:VCALENDAR
