BEGIN:VCALENDAR
VERSION:2.0
PRODID:-//ChamberMaster//Event Calendar 2.0//EN
METHOD:PUBLISH
X-PUBLISHED-TTL:P3D
REFRESH-INTERVAL:P3D
CALSCALE:GREGORIAN
BEGIN:VEVENT
DTSTART:20200521T150000Z
DTEND:20200521T200000Z
X-MICROSOFT-CDO-ALLDAYEVENT:FALSE
SUMMARY:Blood Drive
DESCRIPTION:Give blood to American Red Cross.\n\nSchedule your time at\n\nhttps://www.redcrossblood.org/give.html/donation-time
X-ALT-DESC;FMTTYPE=text/html:Give blood to American Red Cross.<br />\nSchedule your time at<br />\n<a href="https://www.redcrossblood.org/give.html/donation-time">https://www.redcrossblood.org/give.html/donation-time</a>
LOCATION:South Boston/Halifax County YMCA 650 Hamilton Blvd South Boston\, VA 24592
UID:e.845.17602
SEQUENCE:3
DTSTAMP:20260420T095948Z
URL:https://business.halifaxchamber.net/events/details/blood-drive-17602
END:VEVENT

END:VCALENDAR
