BEGIN:VCALENDAR
VERSION:2.0
PRODID:-//ChamberMaster//Event Calendar 2.0//EN
METHOD:PUBLISH
X-PUBLISHED-TTL:P3D
REFRESH-INTERVAL:P3D
CALSCALE:GREGORIAN
BEGIN:VEVENT
DTSTART:20200731T150000Z
DTEND:20200731T210000Z
X-MICROSOFT-CDO-ALLDAYEVENT:FALSE
SUMMARY:Blood Drive
DESCRIPTION:Give blood at the Halifax County YMCA.\n\nPlease call 1-800-RED CROSS or visit RedCrossBlood.org to schedule an appointment.
X-ALT-DESC;FMTTYPE=text/html:Give blood at the Halifax County YMCA.<br />\nPlease call 1-800-RED CROSS or visit <a href="http://RedCrossBlood.org">RedCrossBlood.org</a> to schedule an appointment.
LOCATION:South Boston Halifax County YMCA 650 Hamilton Blvd. South Boston\, VA 24592
UID:e.845.17719
SEQUENCE:3
DTSTAMP:20260420T062514Z
URL:https://business.halifaxchamber.net/events/details/blood-drive-17719
END:VEVENT

END:VCALENDAR
