BEGIN:VCALENDAR
VERSION:2.0
PRODID:-//ChamberMaster//Event Calendar 2.0//EN
METHOD:PUBLISH
X-PUBLISHED-TTL:P3D
REFRESH-INTERVAL:P3D
CALSCALE:GREGORIAN
BEGIN:VEVENT
DTSTART:20180117T153000Z
DTEND:20180117T193000Z
X-MICROSOFT-CDO-ALLDAYEVENT:FALSE
SUMMARY:Blood Drive Sponsored by HYPE
DESCRIPTION:American Red Cross Blood Drive Sponsored by the Halifax Young Professionals and Entrepreneurs.\n\n\n\nPlease visit American Red Cross to sign up and schedule your donation time. enter SVHEC to schedule an appointment\n\n\n\nWalk-ins Welcome!\n\nSteam line your donation experience and save up to 15 minutes by visiting RedCrossBlood.org/RapidPass to complete your pre-donation reading and health history questions on the day of your appointment.
X-ALT-DESC;FMTTYPE=text/html:American Red Cross Blood Drive Sponsored by the Halifax Young Professionals and Entrepreneurs.<br />\n<br />\nPlease visit <a href="http://www.redcrossblood.org/rcbmobile/drive/chooseDonationTime.jsp">American Red Cross</a> to sign up and schedule your donation time. enter <strong>SVHEC</strong>&nbsp\;to schedule an appointment<br />\n<br />\nWalk-ins Welcome!<br />\nSteam line your donation experience and save up to 15 minutes by visiting RedCrossBlood.org/RapidPass to complete your pre-donation reading and health history questions on the day of your appointment.<br />\n<br />\n&nbsp\;
LOCATION:Southern Virginia Higher Education Center Center of Nursing Excellence 800 Bruce Street South Boston\, VA
UID:e.845.7186
SEQUENCE:3
DTSTAMP:20260422T092717Z
URL:https://business.halifaxchamber.net/events/details/blood-drive-sponsored-by-hype-01-17-2018-7186
END:VEVENT

END:VCALENDAR
