BEGIN:VCALENDAR
VERSION:2.0
PRODID:-//ChamberMaster//Event Calendar 2.0//EN
METHOD:PUBLISH
X-PUBLISHED-TTL:P3D
REFRESH-INTERVAL:P3D
CALSCALE:GREGORIAN
BEGIN:VEVENT
DTSTART:20170116T180000Z
DTEND:20170116T230000Z
X-MICROSOFT-CDO-ALLDAYEVENT:FALSE
SUMMARY:Blood Drive Sponsored by HYPE
DESCRIPTION:American Red Cross Blood Drive Sponsored by the Halifax Young Professionals and Entrepreneurs\n\n\n\nVisit www.redcrossblood.org to sign up and schedule your donation time.\n\nSponsor Code - Post8\n\n\n\nWalk-ins Welcome!
X-ALT-DESC;FMTTYPE=text/html:American Red Cross Blood Drive Sponsored by the Halifax Young Professionals and Entrepreneurs<br />\n<br />\nVisit <a href="http://www.redcrossblood.org">www.redcrossblood.org</a> to sign up and schedule your donation time.<br />\nSponsor Code - Post8<br />\n<br />\nWalk-ins Welcome!<br />\n<br />\n&nbsp\;
LOCATION:The American Legion 1710 Jeffress Blvd. South Boston\, VA 24592
UID:e.845.5754
SEQUENCE:3
DTSTAMP:20260424T164154Z
URL:https://business.halifaxchamber.net/events/details/blood-drive-sponsored-by-hype-5754
END:VEVENT

END:VCALENDAR
