BEGIN:VCALENDAR
VERSION:2.0
PRODID:-//ChamberMaster//Event Calendar 2.0//EN
METHOD:PUBLISH
X-PUBLISHED-TTL:P3D
REFRESH-INTERVAL:P3D
CALSCALE:GREGORIAN
BEGIN:VEVENT
DTSTART:20180706T140000Z
DTEND:20180706T190000Z
X-MICROSOFT-CDO-ALLDAYEVENT:FALSE
SUMMARY:Blood Drive YMCA of South Boston & Halifax County
DESCRIPTION:Blood Drive YMCA of South Boston & Halifax County
X-ALT-DESC;FMTTYPE=text/html:Blood Drive YMCA of South Boston &amp\; Halifax County
LOCATION:YMCA of South Boston & Halifax County 650 Hamilton Blvd. South Boston\, VA 24592
UID:e.845.8468
SEQUENCE:3
DTSTAMP:20260421T222443Z
URL:https://business.halifaxchamber.net/events/details/blood-drive-ymca-of-south-boston-halifax-county-8468
END:VEVENT

END:VCALENDAR
