BEGIN:VCALENDAR
VERSION:2.0
PRODID:-//ChamberMaster//Event Calendar 2.0//EN
METHOD:PUBLISH
X-PUBLISHED-TTL:P3D
REFRESH-INTERVAL:P3D
CALSCALE:GREGORIAN
BEGIN:VEVENT
DTSTART:20171104T150000Z
DTEND:20171104T210000Z
X-MICROSOFT-CDO-ALLDAYEVENT:FALSE
SUMMARY:Bluegrass\, Barbecue & Brew Festival
DESCRIPTION:Get your tickets now for the 7th Annual Bluegrass\, Barbecue\, & Brew Festival at Patrick Henry's Red Hill. This festival combines a LOVE of history with a LOVE of music\, barbecue\, and Virginia craft beer/wine/cider! Shop craft vendors\, tour the historic grounds\, and enjoy a fun-filled day for the whole family (children 12 & under get in free). The intention is for the people to fall in love with Southern Virginia and all of the history\, culture\, food\, beer and music it has to offer. Come embrace the flavors and sounds of Southern Virginia at the home of Virginia's Passionate Patriot & Fiery Fiddler!\n\n\n\nThis year's Festival will feature Breaking Grass\, The Church Sisters\, &Nothin' Fancy.\n\n\n\nTasting Ticket: $20 Advance\, $25 Gate: Includes one 16 oz pub glass/wine glass (your choice)\, free tastings of all available beer/wine\n\n\n\nMusic Only Ticket: $15 Advance\, $20 Gate: Enjoy the great bluegrass bands\, vendors\, and free tours of the historic grounds.\n\nChildren 12 & Under get in free\n\n\n\nTickets can be purchased at www.bluegrassbarbecuebrew2017.eventbrite.com.\n\n\n\nVisit the website for more details\n\nwww.bluegrassbarbecuebrew.com
X-ALT-DESC;FMTTYPE=text/html:<span style="color: rgb(75\, 79\, 86)\; font-family: &quot\;SF Optimized&quot\;\, system-ui\, -apple-system\, system-ui\, &quot\;.SFNSText-Regular&quot\;\, sans-serif\; font-size: 14px\; letter-spacing: -0.12px\;">Get your tickets now for the 7th Annual Bluegrass\, Barbecue\, &amp\; Brew Festival at Patrick Henry&#39\;s Red Hill. This festival combines a LOVE of history with a LOVE of music\, barbecue\, and Virginia craft beer/wine/cider! Shop craft vendors\, tour the historic grounds\, and enjoy a fun-filled day for the whole family (children 12 &amp\; under get in free). The intention is for the people to fall in love with Southern Virginia and all of the history\, culture\, food\, beer and music it has to offer. Come embrace the flavors and sounds of Southern Virginia at the home of Virginia&rsquo\;s Passionate Patriot &amp\; Fiery Fiddler!</span><br style="color: rgb(75\, 79\, 86)\; font-family: &quot\;SF Optimized&quot\;\, system-ui\, -apple-system\, system-ui\, &quot\;.SFNSText-Regular&quot\;\, sans-serif\; font-size: 14px\; letter-spacing: -0.12px\;" />\n<br style="color: rgb(75\, 79\, 86)\; font-family: &quot\;SF Optimized&quot\;\, system-ui\, -apple-system\, system-ui\, &quot\;.SFNSText-Regular&quot\;\, sans-serif\; font-size: 14px\; letter-spacing: -0.12px\;" />\n<span style="color: rgb(75\, 79\, 86)\; font-family: &quot\;SF Optimized&quot\;\, system-ui\, -apple-system\, system-ui\, &quot\;.SFNSText-Regular&quot\;\, sans-serif\; font-size: 14px\; letter-spacing: -0.12px\;">This year&#39\;s Festival will feature&nbsp\;</span><a data-hovercard="/ajax/hovercard/page.php?id=249103061866344&amp\;extragetparams=%7B%22directed_target_id%22%3A346604339112078%7D" data-hovercard-prefer-more-content-show="1" href="https://www.facebook.com/BreakingGrass/" style="color: rgb(54\, 88\, 153)\; cursor: pointer\; text-decoration-line: none\; font-family: &quot\;SF Optimized&quot\;\, system-ui\, -apple-system\, system-ui\, &quot\;.SFNSText-Regular&quot\;\, sans-serif\; font-size: 14px\; letter-spacing: -0.12px\;">Breaking Grass</a><span style="color: rgb(75\, 79\, 86)\; font-family: &quot\;SF Optimized&quot\;\, system-ui\, -apple-system\, system-ui\, &quot\;.SFNSText-Regular&quot\;\, sans-serif\; font-size: 14px\; letter-spacing: -0.12px\;">\,&nbsp\;</span><a data-hovercard="/ajax/hovercard/page.php?id=255338151687&amp\;extragetparams=%7B%22directed_target_id%22%3A346604339112078%7D" data-hovercard-prefer-more-content-show="1" href="https://www.facebook.com/TheChurchSisters/" style="color: rgb(54\, 88\, 153)\; cursor: pointer\; text-decoration-line: none\; font-family: &quot\;SF Optimized&quot\;\, system-ui\, -apple-system\, system-ui\, &quot\;.SFNSText-Regular&quot\;\, sans-serif\; font-size: 14px\; letter-spacing: -0.12px\;">The Church Sisters</a><span style="color: rgb(75\, 79\, 86)\; font-family: &quot\;SF Optimized&quot\;\, system-ui\, -apple-system\, system-ui\, &quot\;.SFNSText-Regular&quot\;\, sans-serif\; font-size: 14px\; letter-spacing: -0.12px\;">\, &amp\;</span><a data-hovercard="/ajax/hovercard/page.php?id=45272912827&amp\;extragetparams=%7B%22directed_target_id%22%3A346604339112078%7D" data-hovercard-prefer-more-content-show="1" href="https://www.facebook.com/nothinfancybg/" style="color: rgb(54\, 88\, 153)\; cursor: pointer\; text-decoration-line: none\; font-family: &quot\;SF Optimized&quot\;\, system-ui\, -apple-system\, system-ui\, &quot\;.SFNSText-Regular&quot\;\, sans-serif\; font-size: 14px\; letter-spacing: -0.12px\;">Nothin&#39\; Fancy</a><span style="color: rgb(75\, 79\, 86)\; font-family: &quot\;SF Optimized&quot\;\, system-ui\, -apple-system\, system-ui\, &quot\;.SFNSText-Regular&quot\;\, sans-serif\; font-size: 14px\; letter-spacing: -0.12px\;">.</span><br style="color: rgb(75\, 79\, 86)\; font-family: &quot\;SF Optimized&quot\;\, system-ui\, -apple-system\, system-ui\, &quot\;.SFNSText-Regular&quot\;\, sans-serif\; font-size: 14px\; letter-spacing: -0.12px\;" />\n<br style="color: rgb(75\, 79\, 86)\; font-family: &quot\;SF Optimized&quot\;\, system-ui\, -apple-system\, system-ui\, &quot\;.SFNSText-Regular&quot\;\, sans-serif\; font-size: 14px\; letter-spacing: -0.12px\;" />\n<span style="color: rgb(75\, 79\, 86)\; font-family: &quot\;SF Optimized&quot\;\, system-ui\, -apple-system\, system-ui\, &quot\;.SFNSText-Regular&quot\;\, sans-serif\; font-size: 14px\; letter-spacing: -0.12px\;">Tasting Ticket: $20 Advance\, $25 Gate: Includes one 16 oz pub glass/wine glass (your choice)\, free tastings of all available beer/wine</span><br style="color: rgb(75\, 79\, 86)\; font-family: &quot\;SF Optimized&quot\;\, system-ui\, -apple-system\, system-ui\, &quot\;.SFNSText-Regular&quot\;\, sans-serif\; font-size: 14px\; letter-spacing: -0.12px\;" />\n<br style="color: rgb(75\, 79\, 86)\; font-family: &quot\;SF Optimized&quot\;\, system-ui\, -apple-system\, system-ui\, &quot\;.SFNSText-Regular&quot\;\, sans-serif\; font-size: 14px\; letter-spacing: -0.12px\;" />\n<span style="color: rgb(75\, 79\, 86)\; font-family: &quot\;SF Optimized&quot\;\, system-ui\, -apple-system\, system-ui\, &quot\;.SFNSText-Regular&quot\;\, sans-serif\; font-size: 14px\; letter-spacing: -0.12px\;">Music Only Ticket: $15 Advance\, $20 Gate: Enjoy the great bluegrass bands\, vendors\, and free tours of the historic grounds.</span><br style="color: rgb(75\, 79\, 86)\; font-family: &quot\;SF Optimized&quot\;\, system-ui\, -apple-system\, system-ui\, &quot\;.SFNSText-Regular&quot\;\, sans-serif\; font-size: 14px\; letter-spacing: -0.12px\;" />\n<span style="color: rgb(75\, 79\, 86)\; font-family: &quot\;SF Optimized&quot\;\, system-ui\, -apple-system\, system-ui\, &quot\;.SFNSText-Regular&quot\;\, sans-serif\; font-size: 14px\; letter-spacing: -0.12px\;">Children 12 &amp\; Under get in free</span><br style="color: rgb(75\, 79\, 86)\; font-family: &quot\;SF Optimized&quot\;\, system-ui\, -apple-system\, system-ui\, &quot\;.SFNSText-Regular&quot\;\, sans-serif\; font-size: 14px\; letter-spacing: -0.12px\;" />\n<br style="color: rgb(75\, 79\, 86)\; font-family: &quot\;SF Optimized&quot\;\, system-ui\, -apple-system\, system-ui\, &quot\;.SFNSText-Regular&quot\;\, sans-serif\; font-size: 14px\; letter-spacing: -0.12px\;" />\n<span style="color: rgb(75\, 79\, 86)\; font-family: &quot\;SF Optimized&quot\;\, system-ui\, -apple-system\, system-ui\, &quot\;.SFNSText-Regular&quot\;\, sans-serif\; font-size: 14px\; letter-spacing: -0.12px\;">Tickets can be purchased at&nbsp\;</span><a data-lynx-mode="async" data-lynx-uri="https://l.facebook.com/l.php?u=http%3A%2F%2Fwww.bluegrassbarbecuebrew2017.eventbrite.com%2F&amp\;h=ATPYXIyaVOPvRHZUZylkWkVLdmqP5oG5JXbsh_R32kdYhvB69ZdoK_Fx5jMArxS5417VwtTuI0ImHIvkDRH39BYukh_kgTSsGVLL6Z9pARytKgyBLL89iM_AyyhoMkLXkcW79oI8BXwoR2sARIoUQT-ni-cB3XCG1KsHXg7j0jUjPb5pn_g" href="http://www.bluegrassbarbecuebrew2017.eventbrite.com/" rel="noopener nofollow" style="color: rgb(54\, 88\, 153)\; cursor: pointer\; text-decoration-line: none\; font-family: &quot\;SF Optimized&quot\;\, system-ui\, -apple-system\, system-ui\, &quot\;.SFNSText-Regular&quot\;\, sans-serif\; font-size: 14px\; letter-spacing: -0.12px\;" target="_blank"><span style="font-family: inherit\;">www.bluegrassbarbecuebrew2</span><wbr />017.eventbrite.com</a><font color="#4b4f56" face="SF Optimized\, system-ui\, -apple-system\, system-ui\, .SFNSText-Regular\, sans-serif"><span style="font-size: 14px\; letter-spacing: -0.12px\;">.</span></font><br style="color: rgb(75\, 79\, 86)\; font-family: &quot\;SF Optimized&quot\;\, system-ui\, -apple-system\, system-ui\, &quot\;.SFNSText-Regular&quot\;\, sans-serif\; font-size: 14px\; letter-spacing: -0.12px\;" />\n<br style="color: rgb(75\, 79\, 86)\; font-family: &quot\;SF Optimized&quot\;\, system-ui\, -apple-system\, system-ui\, &quot\;.SFNSText-Regular&quot\;\, sans-serif\; font-size: 14px\; letter-spacing: -0.12px\;" />\n<span style="color: rgb(75\, 79\, 86)\; font-family: &quot\;SF Optimized&quot\;\, system-ui\, -apple-system\, system-ui\, &quot\;.SFNSText-Regular&quot\;\, sans-serif\; font-size: 14px\; letter-spacing: -0.12px\;">Visit the website for more details</span><br style="color: rgb(75\, 79\, 86)\; font-family: &quot\;SF Optimized&quot\;\, system-ui\, -apple-system\, system-ui\, &quot\;.SFNSText-Regular&quot\;\, sans-serif\; font-size: 14px\; letter-spacing: -0.12px\;" />\n<a data-lynx-mode="async" href="https://l.facebook.com/l.php?u=http%3A%2F%2Fwww.bluegrassbarbecuebrew.com%2F&amp\;h=ATOqBYsN9I-cWwWQQTQ5lJvJGounOfqEfMvkQbYeoWOwZFZ8EX-j8GTAnVZenZ_hfGaf9Ebtbx_zqwKzYJTuNfzFHqFAUVf3qWLYxrO9qsLxmJCzRLeSqWYCt-Izq47JiFk5lrX9M9kfrxMotVQ-9MaS47iQYuEJqYzFFMYD1Vv_EkkLxe8" rel="noopener nofollow" style="color: rgb(54\, 88\, 153)\; cursor: pointer\; text-decoration-line: none\; font-family: &quot\;SF Optimized&quot\;\, system-ui\, -apple-system\, system-ui\, &quot\;.SFNSText-Regular&quot\;\, sans-serif\; font-size: 14px\; letter-spacing: -0.12px\;" target="_blank"><span style="font-family: inherit\;">www.bluegrassbarbecuebrew.</span><wbr />com</a>
LOCATION:Patrick Henry's Red Hill 1497 Red Hill Road Brookneal\, VA
UID:e.845.7090
SEQUENCE:3
DTSTAMP:20260422T121208Z
URL:https://business.halifaxchamber.net/events/details/bluegrass-barbecue-brew-festival-7090
END:VEVENT

END:VCALENDAR
