BEGIN:VCALENDAR
VERSION:2.0
PRODID:-//ChamberMaster//Event Calendar 2.0//EN
METHOD:PUBLISH
X-PUBLISHED-TTL:P3D
REFRESH-INTERVAL:P3D
CALSCALE:GREGORIAN
BEGIN:VEVENT
DTSTART:20170418T113000Z
DTEND:20170418T123000Z
X-MICROSOFT-CDO-ALLDAYEVENT:FALSE
SUMMARY:Blueprint Virginia 2025 Regional Roundtable Discussion
DESCRIPTION:The Danville Pittsylvania County Chamber of Commerce\, Halifax County Chamber of Commerce and Martinsville-Henry County Chamber of Commerce request your participation in the Blueprint Virginia 2025 Regional Roundtable Discussion.\n\n\n\nJoin us for an in-depth strategic discussion on Southern Virginia's regional priorities and cross-cutting statewide themes.\n\n\n\nPresentation by:\n\nBarry DuVal\, President & CEO\,\n\nVirginia Chamber of Commerce\n\n \n\nPlease plan to attend to make sure your voice is heard and Southern Virginia's regional priorities are considered in the state plan. \n\n \n\nBLUEPRINT VIRGINIA: A Business Plan for the Commonwealth is a comprehensive effort to provide business leadership\, direction and long-range economic development planning for Virginia. Over eighteen months from 2013 to 2014\, the first Blueprint process engaged business and community leaders from around the Commonwealth to determine top priorities for strengthening Virginia's economic competitiveness. As Virginians prepare to elect a new Governor in 2017\, the time is right to update Blueprint Virginia\, and establish ambitious policy goals for growth. Virginia's regional leaders and industry experts will convene to analyze state and regional economies and identify specific economic drivers.\n\n\n\nRegister online: http://www.dpchamber.org/events/details/id/260/category/chamber-events/blueprint-virginia-2025-regional-roundta
X-ALT-DESC;FMTTYPE=text/html:<span style="color: rgb(68\, 68\, 68)\; font-family: Arial\, sans-serif\; font-size: 16px\;">The Danville Pittsylvania County Chamber of Commerce\, Halifax County Chamber of Commerce and Martinsville-Henry County Chamber of Commerce request your participation in the Blueprint Virginia 2025 Regional Roundtable Discussion.</span><br style="box-sizing: border-box\; padding: 0px\; margin: 0px\; color: rgb(68\, 68\, 68)\; font-family: Arial\, sans-serif\; font-size: 16px\;" />\n<br style="box-sizing: border-box\; padding: 0px\; margin: 0px\; color: rgb(68\, 68\, 68)\; font-family: Arial\, sans-serif\; font-size: 16px\;" />\n<span style="color: rgb(68\, 68\, 68)\; font-family: Arial\, sans-serif\; font-size: 16px\;">Join us for an in-depth strategic discussion on Southern Virginia&rsquo\;s regional priorities and cross-cutting statewide themes.</span><br style="box-sizing: border-box\; padding: 0px\; margin: 0px\; color: rgb(68\, 68\, 68)\; font-family: Arial\, sans-serif\; font-size: 16px\;" />\n<br style="box-sizing: border-box\; padding: 0px\; margin: 0px\; color: rgb(68\, 68\, 68)\; font-family: Arial\, sans-serif\; font-size: 16px\;" />\n<em style="box-sizing: border-box\; padding: 0px\; margin: 0px\; line-height: inherit\; color: rgb(68\, 68\, 68)\; font-family: Arial\, sans-serif\; font-size: 16px\;">Presentation by:</em><br style="box-sizing: border-box\; padding: 0px\; margin: 0px\; color: rgb(68\, 68\, 68)\; font-family: Arial\, sans-serif\; font-size: 16px\;" />\n<strong style="box-sizing: border-box\; padding: 0px\; margin: 0px\; line-height: inherit\; color: rgb(68\, 68\, 68)\; font-family: Arial\, sans-serif\; font-size: 16px\;">Barry DuVal\, President &amp\; CEO\,<br style="box-sizing: border-box\; padding: 0px\; margin: 0px\;" />\n<em style="box-sizing: border-box\; padding: 0px\; margin: 0px\; line-height: inherit\;">Virginia Chamber of Commerce</em></strong><br style="box-sizing: border-box\; padding: 0px\; margin: 0px\; color: rgb(68\, 68\, 68)\; font-family: Arial\, sans-serif\; font-size: 16px\;" />\n<span style="color: rgb(68\, 68\, 68)\; font-family: Arial\, sans-serif\; font-size: 16px\;">&nbsp\;</span><br style="box-sizing: border-box\; padding: 0px\; margin: 0px\; color: rgb(68\, 68\, 68)\; font-family: Arial\, sans-serif\; font-size: 16px\;" />\n<span style="color: rgb(68\, 68\, 68)\; font-family: Arial\, sans-serif\; font-size: 16px\;">Please plan to attend to make sure your voice is heard and Southern Virginia&rsquo\;s regional priorities are considered in the state plan.&nbsp\;</span><br style="box-sizing: border-box\; padding: 0px\; margin: 0px\; color: rgb(68\, 68\, 68)\; font-family: Arial\, sans-serif\; font-size: 16px\;" />\n<span style="color: rgb(68\, 68\, 68)\; font-family: Arial\, sans-serif\; font-size: 16px\;">&nbsp\;</span><br style="box-sizing: border-box\; padding: 0px\; margin: 0px\; color: rgb(68\, 68\, 68)\; font-family: Arial\, sans-serif\; font-size: 16px\;" />\n<span style="color: rgb(68\, 68\, 68)\; font-family: Arial\, sans-serif\; font-size: 16px\;">BLUEPRINT VIRGINIA: A Business Plan for the Commonwealth is a comprehensive effort to provide business leadership\, direction and long-range economic development planning for Virginia. Over eighteen months from 2013 to 2014\, the first Blueprint process engaged business and community leaders from around the Commonwealth to determine top priorities for strengthening Virginia&rsquo\;s economic competitiveness. As Virginians prepare to elect a new Governor in 2017\, the time is right to update Blueprint Virginia\, and establish ambitious policy goals for growth. Virginia&rsquo\;s regional leaders and industry experts will convene to analyze state and regional economies and identify specific economic drivers.<br />\n<br />\nRegister online:&nbsp\;</span>http://www.dpchamber.org/events/details/id/260/category/chamber-events/blueprint-virginia-2025-regional-roundta
LOCATION:Institute for Advanced Learning and Reseach 150 Slayton Avenue Danville\, VA
UID:e.845.5832
SEQUENCE:3
DTSTAMP:20260424T114207Z
URL:https://business.halifaxchamber.net/events/details/blueprint-virginia-2025-regional-roundtable-discussion-5832
END:VEVENT

END:VCALENDAR
