BEGIN:VCALENDAR
VERSION:2.0
PRODID:-//ChamberMaster//Event Calendar 2.0//EN
METHOD:PUBLISH
X-PUBLISHED-TTL:P3D
REFRESH-INTERVAL:P3D
CALSCALE:GREGORIAN
BEGIN:VEVENT
DTSTART:20190401T223000Z
DTEND:20190402T010000Z
X-MICROSOFT-CDO-ALLDAYEVENT:FALSE
SUMMARY:Board of Supervisors Meeting 4.1.19
DESCRIPTION:Board of Supervisors Regular Meeting
X-ALT-DESC;FMTTYPE=text/html:Board of Supervisors Regular Meeting
LOCATION:Mary Bethune Office Complex 1030 Cowford Road Room 201 Halifax\, VA 24558
UID:e.845.12354
SEQUENCE:3
DTSTAMP:20260421T080201Z
URL:https://business.halifaxchamber.net/events/details/board-of-supervisors-meeting-4-1-19-12354
END:VEVENT

END:VCALENDAR
