BEGIN:VCALENDAR
VERSION:2.0
PRODID:-//ChamberMaster//Event Calendar 2.0//EN
METHOD:PUBLISH
X-PUBLISHED-TTL:P3D
REFRESH-INTERVAL:P3D
CALSCALE:GREGORIAN
BEGIN:VEVENT
DTSTART:20190624T223000Z
DTEND:20190625T010000Z
X-MICROSOFT-CDO-ALLDAYEVENT:FALSE
SUMMARY:Board of Supervisors Meeting July
DESCRIPTION:School Board Meeting
X-ALT-DESC;FMTTYPE=text/html:School Board Meeting
LOCATION:Mary Bethune Office Complex
UID:e.845.12373
SEQUENCE:3
DTSTAMP:20260421T045320Z
URL:https://business.halifaxchamber.net/events/details/board-of-supervisors-meeting-july-12373
END:VEVENT

END:VCALENDAR
