BEGIN:VCALENDAR
VERSION:2.0
PRODID:-//ChamberMaster//Event Calendar 2.0//EN
METHOD:PUBLISH
X-PUBLISHED-TTL:P3D
REFRESH-INTERVAL:P3D
CALSCALE:GREGORIAN
BEGIN:VEVENT
DTSTART:20190603T223000Z
DTEND:20190604T010000Z
X-MICROSOFT-CDO-ALLDAYEVENT:FALSE
SUMMARY:Board of Supervisors Meeting June
DESCRIPTION:Board of Supervisors Meeting\n\nPublic Hearing for the purpose of receiving public comments regarding proposed Ordinance 2019-18.
X-ALT-DESC;FMTTYPE=text/html:Board of Supervisors Meeting<br />\nPublic Hearing for the purpose of receiving public comments regarding proposed Ordinance 2019-18.&nbsp\;<br />\n&nbsp\;
LOCATION:Mary Bethune Office Complex
UID:e.845.12372
SEQUENCE:3
DTSTAMP:20260421T044501Z
URL:https://business.halifaxchamber.net/events/details/board-of-supervisors-meeting-june-12372
END:VEVENT

END:VCALENDAR
