BEGIN:VCALENDAR
VERSION:2.0
PRODID:-//ChamberMaster//Event Calendar 2.0//EN
METHOD:PUBLISH
X-PUBLISHED-TTL:P3D
REFRESH-INTERVAL:P3D
CALSCALE:GREGORIAN
BEGIN:VEVENT
DTSTART:20190107T233000Z
DTEND:20190108T020000Z
X-MICROSOFT-CDO-ALLDAYEVENT:FALSE
SUMMARY:Board of Supervisors-Organizational Meeting
DESCRIPTION:Board of Supervisors Meeting
X-ALT-DESC;FMTTYPE=text/html:Board of Supervisors Meeting
LOCATION:Mary Bethune Office Complex 1030 Cowford Rd. Room 201 Halifax\, VA
UID:e.845.8816
SEQUENCE:3
DTSTAMP:20260421T140400Z
URL:https://business.halifaxchamber.net/events/details/board-of-supervisors-organizational-meeting-8816
END:VEVENT

END:VCALENDAR
