BEGIN:VCALENDAR
VERSION:2.0
PRODID:-//ChamberMaster//Event Calendar 2.0//EN
METHOD:PUBLISH
X-PUBLISHED-TTL:P3D
REFRESH-INTERVAL:P3D
CALSCALE:GREGORIAN
BEGIN:VEVENT
DTSTART:20200201T150000Z
DTEND:20200201T200000Z
X-MICROSOFT-CDO-ALLDAYEVENT:FALSE
SUMMARY:Bob Ross Art Class
DESCRIPTION:The South Boston - Halifax County Museum will be host to a new Bob Ross Art Class on Saturday\, February 1st from 10 a.m. until 3 p.m.\n\n\n\nParticipants of any skill level can learn how to oil paint using the Bob Ross method through step-by-step instruction with certified Bob Ross Art Instructor\, Kathy Anthony. The course is a beginner friendly program\, so you do not need any prior art experience!\n\n\n\nThe course fee is $75 for museum members and $80 for non-members. The course fee covers all art supplies including: paint\, brushes\, canvases\, easels\, etc. Attendees are encouraged to bring with them a bagged lunch.\n\n\n\nIn order to participate\, attendees must RSVP in advance to reserve a seat. You can RSVP by calling (434) 572-9200 during our normal business hours or by sending us an email to info@sbhcmuseum.org.\n\n\n\nRegistration ends Wednesday\, January 29th.
X-ALT-DESC;FMTTYPE=text/html:<span style="color:rgb(29\, 33\, 41)\; font-family:system-ui\,-apple-system\,blinkmacsystemfont\,.sfnstext-regular\,sans-serif\; font-size:14px">The South Boston - Halifax County Museum will be host to a new Bob Ross Art Class on Saturday\, February 1st from 10 a.m. until 3 p.m.</span><br />\n<br />\n<span style="color:rgb(29\, 33\, 41)\; font-family:system-ui\,-apple-system\,blinkmacsystemfont\,.sfnstext-regular\,sans-serif\; font-size:14px">Participants of any skill level can learn how to oil paint using the Bob Ross method through step-by-step instruction with certified Bob Ross Art Instructor\, Kathy Anthony. The course is a beginner friendly program\, so you do not need any prior art experience!</span><br />\n<br />\n<span style="color:rgb(29\, 33\, 41)\; font-family:system-ui\,-apple-system\,blinkmacsystemfont\,.sfnstext-regular\,sans-serif\; font-size:14px">The course fee is $75 for museum members and $80 for non-members. The course fee covers all art supplies including: paint\, brushes\, canvases\, easels\, etc. Attendees are encouraged to bring with them a bagged lunch.</span><br />\n<br />\n<span style="color:rgb(29\, 33\, 41)\; font-family:system-ui\,-apple-system\,blinkmacsystemfont\,.sfnstext-regular\,sans-serif\; font-size:14px">In order to participate\, attendees must RSVP in advance to reserve a seat. You can RSVP by calling (434) 572-9200 during our normal business hours or by sending us an email to info@sbhcmuseum.org.</span><br />\n<br />\n<span style="color:rgb(29\, 33\, 41)\; font-family:system-ui\,-apple-system\,blinkmacsystemfont\,.sfnstext-regular\,sans-serif\; font-size:14px">Registration ends Wednesday\, January 29th.</span>
LOCATION:1540 Wilborn Avenue South Boston\, VA 24592
UID:e.845.15634
SEQUENCE:3
DTSTAMP:20260420T164841Z
URL:https://business.halifaxchamber.net/events/details/bob-ross-art-class-02-01-2020-15634
END:VEVENT

END:VCALENDAR
