BEGIN:VCALENDAR
VERSION:2.0
PRODID:-//ChamberMaster//Event Calendar 2.0//EN
METHOD:PUBLISH
X-PUBLISHED-TTL:P3D
REFRESH-INTERVAL:P3D
CALSCALE:GREGORIAN
BEGIN:VEVENT
DTSTART:20190921T140000Z
DTEND:20190921T190000Z
X-MICROSOFT-CDO-ALLDAYEVENT:FALSE
SUMMARY:Bob Ross Art Class
DESCRIPTION:The South Boston - Halifax County Museum will be host to a new Bob Ross Art Class.\n\nParticipants of any skill level can learn how to oil paint using the Bob Ross method through step-by-step instruction with certified Bob Ross Art Instructor\, Kathy Anthony. The course is a beginner friendly program\, so you do not need any prior art experience.\n\n\n\nIn order to participate\, attendees must RSVP in advance to reserve a seat. You can RSVP by calling (434) 572-9200 during normal business hours or by sending an email to info@sbhcmuseum.org.\n\nRegistration ends Wednesday\, September 18\, 2019.
X-ALT-DESC;FMTTYPE=text/html:The South Boston - Halifax County Museum will be host to a new Bob Ross Art Class.<br />\nParticipants of any skill level can learn how to oil paint using the Bob Ross method through step-by-step instruction with certified Bob Ross Art Instructor\, Kathy Anthony. The course is a beginner friendly program\, so you do not need any prior art experience.<br />\n<br />\nIn order to participate\, attendees must RSVP in advance to reserve a seat. You can RSVP by calling (434) 572-9200 during normal business hours or by sending an email to info@sbhcmuseum.org.<br />\nRegistration ends Wednesday\, September 18\, 2019.<br />\n&nbsp\;
LOCATION:South Boston - Halifax County Museum 1540 Wilborn Ave South Boston\, VA 24592
UID:e.845.13276
SEQUENCE:3
DTSTAMP:20260420T233648Z
URL:https://business.halifaxchamber.net/events/details/bob-ross-art-class-13276
END:VEVENT

END:VCALENDAR
