BEGIN:VCALENDAR
VERSION:2.0
PRODID:-//ChamberMaster//Event Calendar 2.0//EN
METHOD:PUBLISH
X-PUBLISHED-TTL:P3D
REFRESH-INTERVAL:P3D
CALSCALE:GREGORIAN
BEGIN:VEVENT
DTSTART:20170218T143000Z
DTEND:20170218T210000Z
X-MICROSOFT-CDO-ALLDAYEVENT:FALSE
SUMMARY:Bob Ross Art Class
DESCRIPTION:The South Boston-Halifax County Museum will host a Bob Ross Art Class on February 18 from 9:30 a.m. until 4 p.m. The course fee is $80 for members and $85 for non-members. The cost covers all art supplies\, a lunch catered by Windmill Bakery\, and a lesson plan conducted by certified Bob Ross instructor\, Janet Williams. It is a beginner friendly program\, so you do not need any prior art experience!\n\n\n\nBe sure to RSVP right away so we can reserve your spot and take your lunch order. You can RSVP by calling (434)572-9200 during our normal business hours or send us an email at info@sbhcmuseum.org. In the event that we have enough participants\, there will be a second class offered on February 22 from 9:30 a.m. until 4 p.m.\n\n\n\nWe hope to see you there!
X-ALT-DESC;FMTTYPE=text/html:<span style="color: rgb(75\, 79\, 86)\; font-family: 'San Francisco'\, -apple-system\, BlinkMacSystemFont\, '.SFNSText-Regular'\, sans-serif\; font-size: 14px\; letter-spacing: -0.23999999463558197px\;">The South Boston-Halifax County Museum will host a Bob Ross Art Class on February 18 from 9:30 a.m. until 4 p.m. The course fee is $80 for members and $85 for non-members. The cost covers all art supplies\, a lunch catered by Windmill Bakery\, and a lesson plan conducted by certified Bob Ross instructor\, Janet Williams.&nbsp\;It is a beginner friendly program\, so you do not need any prior art experience!</span><br style="color: rgb(75\, 79\, 86)\; font-family: 'San Francisco'\, -apple-system\, BlinkMacSystemFont\, '.SFNSText-Regular'\, sans-serif\; font-size: 14px\; letter-spacing: -0.23999999463558197px\;" />\n<br style="color: rgb(75\, 79\, 86)\; font-family: 'San Francisco'\, -apple-system\, BlinkMacSystemFont\, '.SFNSText-Regular'\, sans-serif\; font-size: 14px\; letter-spacing: -0.23999999463558197px\;" />\n<span style="color: rgb(75\, 79\, 86)\; font-family: 'San Francisco'\, -apple-system\, BlinkMacSystemFont\, '.SFNSText-Regular'\, sans-serif\; font-size: 14px\; letter-spacing: -0.23999999463558197px\;">Be sure to RSVP right away so we can reserve your spot and take your lunch order. You can RSVP by calling (434)572-9200 during our normal business hours or send us an email at info@sbhcmuseum.org. In the event that we have enough participants\, there will be a second class offered on February 22 from 9:30 a.m. until 4 p.m.</span><br style="color: rgb(75\, 79\, 86)\; font-family: 'San Francisco'\, -apple-system\, BlinkMacSystemFont\, '.SFNSText-Regular'\, sans-serif\; font-size: 14px\; letter-spacing: -0.23999999463558197px\;" />\n<br style="color: rgb(75\, 79\, 86)\; font-family: 'San Francisco'\, -apple-system\, BlinkMacSystemFont\, '.SFNSText-Regular'\, sans-serif\; font-size: 14px\; letter-spacing: -0.23999999463558197px\;" />\n<span style="color: rgb(75\, 79\, 86)\; font-family: 'San Francisco'\, -apple-system\, BlinkMacSystemFont\, '.SFNSText-Regular'\, sans-serif\; font-size: 14px\; letter-spacing: -0.23999999463558197px\;">We hope to see you there!</span><br style="color: rgb(75\, 79\, 86)\; font-family: 'San Francisco'\, -apple-system\, BlinkMacSystemFont\, '.SFNSText-Regular'\, sans-serif\; font-size: 14px\; letter-spacing: -0.23999999463558197px\;" />\n&nbsp\;
LOCATION:The South Boston-Halifax County Museum of Fine Arts and History 1540 Wilborn Ave South Boston\, VA 24592
UID:e.845.5785
SEQUENCE:3
DTSTAMP:20260424T145053Z
URL:https://business.halifaxchamber.net/events/details/bob-ross-art-class-5785
END:VEVENT

END:VCALENDAR
