BEGIN:VCALENDAR
VERSION:2.0
PRODID:-//ChamberMaster//Event Calendar 2.0//EN
METHOD:PUBLISH
X-PUBLISHED-TTL:P3D
REFRESH-INTERVAL:P3D
CALSCALE:GREGORIAN
BEGIN:VEVENT
DTSTART:20180623T140000Z
DTEND:20180623T190000Z
X-MICROSOFT-CDO-ALLDAYEVENT:FALSE
SUMMARY:Bob Ross Art Class
DESCRIPTION:The South Boston-Halifax County Museum will host a Bob Ross Art Class on June 23rd from 10 a.m. until 3 p.m. Participants of any skill level can learn how to oil paint using the Bob Ross method through step-by-step instruction with certified Bob Ross instructor\, Kathy Anthony.\n\n\n\nIt is a beginner friendly program\, so you do not need any prior art experience! Participants are asked to please bring with them a bagged lunch.The course fee is $75 for members and $80 for non-members. The cost covers all art supplies and a lesson plan.\n\n\n\nBe sure to RSVP right away so we can reserve your spot. You can RSVP by calling (434) 572-9200 during our normal business hours or send us an email at info@sbhcmuseum.org. Registration ends June 16th. \n\n\n\nWe hope to see you there!
X-ALT-DESC;FMTTYPE=text/html:<span style="color: rgb(75\, 79\, 86)\; font-family: system-ui\, -apple-system\, system-ui\, &quot\;.SFNSText-Regular&quot\;\, sans-serif\; font-size: 14px\;">The South Boston-Halifax County Museum will host a Bob Ross Art Class on June 23rd from 10 a.m. until 3 p.m. Participants of any skill level can learn how to oil paint using the Bob Ross method through step-by-step instruction with certified Bob Ross instructor\, Kathy Anthony.</span><br style="color: rgb(75\, 79\, 86)\; font-family: system-ui\, -apple-system\, system-ui\, &quot\;.SFNSText-Regular&quot\;\, sans-serif\; font-size: 14px\;" />\n<br style="color: rgb(75\, 79\, 86)\; font-family: system-ui\, -apple-system\, system-ui\, &quot\;.SFNSText-Regular&quot\;\, sans-serif\; font-size: 14px\;" />\n<span style="color: rgb(75\, 79\, 86)\; font-family: system-ui\, -apple-system\, system-ui\, &quot\;.SFNSText-Regular&quot\;\, sans-serif\; font-size: 14px\;">It is a beginner friendly program\, so you do not need any prior art experience! Participants are asked to please bring with them a bagged lunch.The course fee is $75 for members and $80 for non-members. The cost covers all art supplies and a lesson plan.</span><br style="color: rgb(75\, 79\, 86)\; font-family: system-ui\, -apple-system\, system-ui\, &quot\;.SFNSText-Regular&quot\;\, sans-serif\; font-size: 14px\;" />\n<br style="color: rgb(75\, 79\, 86)\; font-family: system-ui\, -apple-system\, system-ui\, &quot\;.SFNSText-Regular&quot\;\, sans-serif\; font-size: 14px\;" />\n<span style="color: rgb(75\, 79\, 86)\; font-family: system-ui\, -apple-system\, system-ui\, &quot\;.SFNSText-Regular&quot\;\, sans-serif\; font-size: 14px\;">Be sure to RSVP right away so we can reserve your spot. You can RSVP by calling (434) 572-9200 during our normal business hours or send us an email at info@sbhcmuseum.org. Registration ends June 16th.&nbsp\;</span><br style="color: rgb(75\, 79\, 86)\; font-family: system-ui\, -apple-system\, system-ui\, &quot\;.SFNSText-Regular&quot\;\, sans-serif\; font-size: 14px\;" />\n<br style="color: rgb(75\, 79\, 86)\; font-family: system-ui\, -apple-system\, system-ui\, &quot\;.SFNSText-Regular&quot\;\, sans-serif\; font-size: 14px\;" />\n<span style="color: rgb(75\, 79\, 86)\; font-family: system-ui\, -apple-system\, system-ui\, &quot\;.SFNSText-Regular&quot\;\, sans-serif\; font-size: 14px\;">We hope to see you there!</span>
LOCATION:South Boston-Halifax County Museum 1540 Wilborn Avenue South Boston\, VA
UID:e.845.8458
SEQUENCE:3
DTSTAMP:20260422T012910Z
URL:https://business.halifaxchamber.net/events/details/bob-ross-art-class-8458
END:VEVENT

END:VCALENDAR
