BEGIN:VCALENDAR
VERSION:2.0
PRODID:-//ChamberMaster//Event Calendar 2.0//EN
METHOD:PUBLISH
X-PUBLISHED-TTL:P3D
REFRESH-INTERVAL:P3D
CALSCALE:GREGORIAN
BEGIN:VEVENT
DTSTART:20181201T150000Z
DTEND:20181201T200000Z
X-MICROSOFT-CDO-ALLDAYEVENT:FALSE
SUMMARY:Bob Ross Oil Painting Class
DESCRIPTION:We're painting for the holidays! The South Boston Halifax County Museum's upcoming Bob Ross art class will teach participants of any skill level how to create a Christmas oil painting. The Bob Ross method will be taught through step-by-step instruction with Certified Bob Ross Instructor\, Kathy Anthony.. Want to make it a winter painting instead of Christmas? No problem! We'll leave the ornaments off so you can enjoy throughout winter.  \n\n\n\nKathy has hosted numerous beginner friendly programs in the Bob Ross style\, so prior painting experience is not required! Participants are asked to please bring a bagged lunch. The course fee is $75 for members and $80 for non-members and all supplies are included.\n\n\n\nBe sure to RSVP right away so we can reserve your spot. You may RSVP by calling (434) 572-9200 during our normal business hours or send us an email at info@sbhcmuseum.org.\n\n\n\nWe hope to see you there!
X-ALT-DESC;FMTTYPE=text/html:<span style="caret-color: rgb(29\, 33\, 41)\; color: rgb(29\, 33\, 41)\; font-family: system-ui\, -apple-system\, BlinkMacSystemFont\, &quot\;.SFNSText-Regular&quot\;\, sans-serif\; font-size: 14px\; background-color: rgb(255\, 255\, 255)\;">We&#39\;re painting for the holidays! The South Boston Halifax County Museum&#39\;s upcoming Bob Ross art class will teach participants of any skill level how to create a Christmas oil painting. The Bob Ross method will be taught through step-by-step instruction with Certified Bob Ross Instructor\, Kathy Anthony.. Want to make it a winter painting instead of Christmas? No problem! We&#39\;ll leave the ornaments off so you can enjoy throughout winter.&nbsp\;&nbsp\;</span><br style="caret-color: rgb(29\, 33\, 41)\; color: rgb(29\, 33\, 41)\; font-family: system-ui\, -apple-system\, BlinkMacSystemFont\, &quot\;.SFNSText-Regular&quot\;\, sans-serif\; font-size: 14px\;" />\n<br style="caret-color: rgb(29\, 33\, 41)\; color: rgb(29\, 33\, 41)\; font-family: system-ui\, -apple-system\, BlinkMacSystemFont\, &quot\;.SFNSText-Regular&quot\;\, sans-serif\; font-size: 14px\;" />\n<span style="caret-color: rgb(29\, 33\, 41)\; color: rgb(29\, 33\, 41)\; font-family: system-ui\, -apple-system\, BlinkMacSystemFont\, &quot\;.SFNSText-Regular&quot\;\, sans-serif\; font-size: 14px\; background-color: rgb(255\, 255\, 255)\;">Kathy has hosted numerous beginner friendly programs in the Bob Ross style\, so prior painting experience is not required! Participants are asked to please bring a bagged lunch. The course fee is $75 for members and $80 for non-members and all supplies are included.</span><br style="caret-color: rgb(29\, 33\, 41)\; color: rgb(29\, 33\, 41)\; font-family: system-ui\, -apple-system\, BlinkMacSystemFont\, &quot\;.SFNSText-Regular&quot\;\, sans-serif\; font-size: 14px\;" />\n<br style="caret-color: rgb(29\, 33\, 41)\; color: rgb(29\, 33\, 41)\; font-family: system-ui\, -apple-system\, BlinkMacSystemFont\, &quot\;.SFNSText-Regular&quot\;\, sans-serif\; font-size: 14px\;" />\n<span style="caret-color: rgb(29\, 33\, 41)\; color: rgb(29\, 33\, 41)\; font-family: system-ui\, -apple-system\, BlinkMacSystemFont\, &quot\;.SFNSText-Regular&quot\;\, sans-serif\; font-size: 14px\; background-color: rgb(255\, 255\, 255)\;">Be sure to RSVP right away so we can reserve your spot. You may RSVP by calling (434) 572-9200 during our normal business hours or send us an email at info@sbhcmuseum.org.</span><br style="caret-color: rgb(29\, 33\, 41)\; color: rgb(29\, 33\, 41)\; font-family: system-ui\, -apple-system\, BlinkMacSystemFont\, &quot\;.SFNSText-Regular&quot\;\, sans-serif\; font-size: 14px\;" />\n<br style="caret-color: rgb(29\, 33\, 41)\; color: rgb(29\, 33\, 41)\; font-family: system-ui\, -apple-system\, BlinkMacSystemFont\, &quot\;.SFNSText-Regular&quot\;\, sans-serif\; font-size: 14px\;" />\n<span style="caret-color: rgb(29\, 33\, 41)\; color: rgb(29\, 33\, 41)\; font-family: system-ui\, -apple-system\, BlinkMacSystemFont\, &quot\;.SFNSText-Regular&quot\;\, sans-serif\; font-size: 14px\; background-color: rgb(255\, 255\, 255)\;">We hope to see you there!</span>
LOCATION:THe South Boston-Halifax County Museum of Fine Arts and History 1540 Wilborn Ave South Boston\, VA
UID:e.845.8596
SEQUENCE:3
DTSTAMP:20260421T140106Z
URL:https://business.halifaxchamber.net/events/details/bob-ross-oil-painting-class-8596
END:VEVENT

END:VCALENDAR
