BEGIN:VCALENDAR
VERSION:2.0
PRODID:-//ChamberMaster//Event Calendar 2.0//EN
METHOD:PUBLISH
X-PUBLISHED-TTL:P3D
REFRESH-INTERVAL:P3D
CALSCALE:GREGORIAN
BEGIN:VEVENT
DTSTART;VALUE=DATE:20170213
DTEND;VALUE=DATE:20170214
TRANSP:TRANSPARENT
X-MICROSOFT-CDO-ALLDAYEVENT:TRUE
SUMMARY:Books For Sale
DESCRIPTION:Halifax Public Library and South Boston Public Library will be having a book sale February 13-18.  50% off Books/Audio/DVD'S all proceeds benefit Friends Of The Library.
X-ALT-DESC;FMTTYPE=text/html:Halifax Public Library and South Boston Public Library will be having a book sale February 13-18. &nbsp\;50% off Books/Audio/DVD&#39\;S all proceeds benefit Friends Of The Library.
LOCATION:Halifax Public Library 177 South Main Street Halifax\, VA 24558 South Boston Public Library 509 Broad Street South Boston\, VA 24592
UID:e.845.5784
SEQUENCE:3
DTSTAMP:20260424T145312Z
URL:https://business.halifaxchamber.net/events/details/books-for-sale-5784
END:VEVENT

END:VCALENDAR
