BEGIN:VCALENDAR
VERSION:2.0
PRODID:-//ChamberMaster//Event Calendar 2.0//EN
METHOD:PUBLISH
X-PUBLISHED-TTL:P3D
REFRESH-INTERVAL:P3D
CALSCALE:GREGORIAN
BEGIN:VEVENT
DTSTART:20200323T213000Z
DTEND:20200323T230000Z
X-MICROSOFT-CDO-ALLDAYEVENT:FALSE
SUMMARY:Bowling Club
DESCRIPTION:4 WEEK LEARN TO BOWLING PROGRAM\n\nfor children ages 12 and under\n\nMondays at 5:30 beginning March 16th.\n\n\n\nRegister at the Bowling Counter or email mallory@worldofsportsfun.com.
X-ALT-DESC;FMTTYPE=text/html:4 WEEK LEARN TO BOWLING PROGRAM<br />\nfor children ages 12 and under<br />\nMondays at 5:30 beginning March 16th.<br />\n<br />\nRegister at the Bowling Counter or email mallory@worldofsportsfun.com.&nbsp\;
LOCATION:World of Sports 2030 Bill Tuck Highway South Boston\, VA 24592
UID:e.845.17516
SEQUENCE:3
DTSTAMP:20260420T132038Z
URL:https://business.halifaxchamber.net/events/details/bowling-club-03-23-2020-17516
END:VEVENT

END:VCALENDAR
