BEGIN:VCALENDAR
VERSION:2.0
PRODID:-//ChamberMaster//Event Calendar 2.0//EN
METHOD:PUBLISH
X-PUBLISHED-TTL:P3D
REFRESH-INTERVAL:P3D
CALSCALE:GREGORIAN
BEGIN:VEVENT
DTSTART:20201101T010000Z
DTEND:20201101T040000Z
X-MICROSOFT-CDO-ALLDAYEVENT:FALSE
SUMMARY:Bowloween
DESCRIPTION:We are turning the lights down\, the music up and dressing in costume Saturday\, October 31st for Bowloween with DJ MajorMark\n\nDress us in your your best Halloween Costume\, come bowling with your friends and family and win prizes! Costume Contest at 10:00PM\n\nThe fun starts at 9:00.\n\nCall (434) 572-2695 or visit https://worldofsports.centeredgeonline.com/areas/area/4681e9c2-f917-4d79-bd14-8057fb0d2447?fbclid=IwAR0TEczALnoRGNShJ3o7Us0zhCHi3scl3zrT7w56WwqbJpnm5JUVbD9iRgg to reserve your lane. $90 per lane. Shoes not included. 5 person max per lane.
X-ALT-DESC;FMTTYPE=text/html:<div>We are turning the lights down\, the music up and dressing in costume Saturday\, October 31st for Bowloween with DJ MajorMark</div>\n\n<div>Dress us in your your best Halloween Costume\, come bowling with your friends and family and win prizes! Costume Contest at 10:00PM</div>\n\n<div>The fun starts at 9:00.</div>\n\n<div>Call (434) 572-2695 or visit&nbsp\;https://worldofsports.centeredgeonline.com/areas/area/4681e9c2-f917-4d79-bd14-8057fb0d2447?fbclid=IwAR0TEczALnoRGNShJ3o7Us0zhCHi3scl3zrT7w56WwqbJpnm5JUVbD9iRgg&nbsp\;to reserve your lane. $90 per lane. Shoes not included. 5 person max per lane.</div>\n
LOCATION:World of Sports 2030 Bill Tuck Highway South Boston\, VA 24592
UID:e.845.17794
SEQUENCE:3
DTSTAMP:20260419T234413Z
URL:https://business.halifaxchamber.net/events/details/bowloween-17794
END:VEVENT

END:VCALENDAR
