BEGIN:VCALENDAR
VERSION:2.0
PRODID:-//ChamberMaster//Event Calendar 2.0//EN
METHOD:PUBLISH
X-PUBLISHED-TTL:P3D
REFRESH-INTERVAL:P3D
CALSCALE:GREGORIAN
BEGIN:VEVENT
DTSTART:20191207T020000Z
DTEND:20191207T045500Z
X-MICROSOFT-CDO-ALLDAYEVENT:FALSE
SUMMARY:Brandon Bailey Live
DESCRIPTION:Nashville Recording Artist\, Brandon Bailey will be performing live at the World of Sports Friday\, December 13th from 9:00pm - midnight.
X-ALT-DESC;FMTTYPE=text/html:Nashville Recording Artist\, Brandon Bailey will be performing live at the World of Sports Friday\, December 13th from 9:00pm - midnight.&nbsp\;
LOCATION:World of Sports 2030 Bill Tuck Highway South Boston\, VA
UID:e.845.15566
SEQUENCE:3
DTSTAMP:20260420T195857Z
URL:https://business.halifaxchamber.net/events/details/brandon-bailey-live-12-06-2019-15566
END:VEVENT

END:VCALENDAR
