BEGIN:VCALENDAR
VERSION:2.0
PRODID:-//ChamberMaster//Event Calendar 2.0//EN
METHOD:PUBLISH
X-PUBLISHED-TTL:P3D
REFRESH-INTERVAL:P3D
CALSCALE:GREGORIAN
BEGIN:VEVENT
DTSTART:20170611T170000Z
DTEND:20170611T210000Z
X-MICROSOFT-CDO-ALLDAYEVENT:FALSE
SUMMARY:Brats and Burgers
DESCRIPTION:Hudson Heritage Farms will be at Springfield Distillery Sunday\, June 11th preparing burgers and brats. \n\n\n\nThese tasty sandwiches are from Hudson Heritage Farm's own naturally raised meet products.
X-ALT-DESC;FMTTYPE=text/html:Hudson Heritage Farms will be at Springfield Distillery Sunday\, June 11th&nbsp\;preparing burgers and brats.&nbsp\;<br />\n<br />\nThese tasty sandwiches are from Hudson Heritage Farm&#39\;s own naturally raised meet products.&nbsp\;
LOCATION:Springfield Distillery 9040 River Road Haifax\, VA
UID:e.845.5980
SEQUENCE:3
DTSTAMP:20260422T232110Z
URL:https://business.halifaxchamber.net/events/details/brats-and-burgers-5980
END:VEVENT

END:VCALENDAR
