BEGIN:VCALENDAR
VERSION:2.0
PRODID:-//ChamberMaster//Event Calendar 2.0//EN
METHOD:PUBLISH
X-PUBLISHED-TTL:P3D
REFRESH-INTERVAL:P3D
CALSCALE:GREGORIAN
BEGIN:VEVENT
DTSTART:20191224T140000Z
DTEND:20191224T160000Z
X-MICROSOFT-CDO-ALLDAYEVENT:FALSE
SUMMARY:Breakfast with Santa
DESCRIPTION:Santa Claus is coming to The Packhouse! The traditional breakfast with Santa is Christmas Eve!\n\nCall 434.476.6744 for reservations. Limited seating available.\n\nTwo seatings available 9 am or 10:30 am.
X-ALT-DESC;FMTTYPE=text/html:Santa Claus is coming to The Packhouse! The traditional breakfast with Santa is Christmas Eve!<br />\nCall 434.476.6744 for reservations. Limited seating available.<br />\nTwo seatings available 9 am or 10:30 am.
LOCATION:
UID:e.845.15578
SEQUENCE:3
DTSTAMP:20260420T181111Z
URL:https://business.halifaxchamber.net/events/details/breakfast-with-santa-15578
END:VEVENT

END:VCALENDAR
