BEGIN:VCALENDAR
VERSION:2.0
PRODID:-//ChamberMaster//Event Calendar 2.0//EN
METHOD:PUBLISH
X-PUBLISHED-TTL:P3D
REFRESH-INTERVAL:P3D
CALSCALE:GREGORIAN
BEGIN:VEVENT
DTSTART:20171202T143000Z
DTEND:20171202T163000Z
X-MICROSOFT-CDO-ALLDAYEVENT:FALSE
SUMMARY:Breakfast with Santa
DESCRIPTION:Join Santa for breakfast at Berry Hill Resort and Conference Center.\n\n\n\nSanta will make his appearance at 10:00am.\n\n\n\nReservations are required by calling (434) 517-7019.
X-ALT-DESC;FMTTYPE=text/html:Join Santa for breakfast at Berry Hill Resort and Conference Center.<br />\n<br />\nSanta will make his appearance at 10:00am.<br />\n<br />\nReservations are required by calling (434) 517-7019.
LOCATION:Berry Hill Resort and Conference Center 3105 River Road South Boston\, VA 24592
UID:e.845.7138
SEQUENCE:3
DTSTAMP:20260422T104316Z
URL:https://business.halifaxchamber.net/events/details/breakfast-with-santa-7138
END:VEVENT

END:VCALENDAR
