BEGIN:VCALENDAR
VERSION:2.0
PRODID:-//ChamberMaster//Event Calendar 2.0//EN
METHOD:PUBLISH
X-PUBLISHED-TTL:P3D
REFRESH-INTERVAL:P3D
CALSCALE:GREGORIAN
BEGIN:VEVENT
DTSTART:20191214T133000Z
DTEND:20191214T153000Z
X-MICROSOFT-CDO-ALLDAYEVENT:FALSE
SUMMARY:Breakfast with the Grinch
DESCRIPTION:Join us for a gourmet breakfast buffet complete with a hot chocolate bar!\n\n\n\nHeritage Hall Brookneal\n\nSaturday\, December 14\n\n8:30AM to 10:30AM\n\n$5 Adults $10 Children\n\nKids 2 and under Free\n\nRSVP By December 3\n\n\n\nThere will be Vendors for last minute Christmas shopping featuring lots of great items!\n\n\n\nPhotos with The Grinch (Bring your own Camera)\, Magic Reindeer Food\, Christmas Craft\, Letter to Santa\, and Grinch Goody Bags!\n\n\n\nAll proceeds go to Resident Aid. Call (434) 376-3717 for more information.
X-ALT-DESC;FMTTYPE=text/html:<span style="color:rgb(29\, 33\, 41)\; font-family:system-ui\,-apple-system\,system-ui\,.sfnstext-regular\,sans-serif\; font-size:14px">Join us for a gourmet breakfast buffet complete with a hot chocolate bar!</span><br />\n<br />\n<span style="color:rgb(29\, 33\, 41)\; font-family:system-ui\,-apple-system\,system-ui\,.sfnstext-regular\,sans-serif\; font-size:14px">Heritage Hall Brookneal</span><br />\n<span style="color:rgb(29\, 33\, 41)\; font-family:system-ui\,-apple-system\,system-ui\,.sfnstext-regular\,sans-serif\; font-size:14px">Saturday\, December 14</span><br />\n<span style="color:rgb(29\, 33\, 41)\; font-family:system-ui\,-apple-system\,system-ui\,.sfnstext-regular\,sans-serif\; font-size:14px">8:30AM to 10:30AM</span><br />\n<span style="color:rgb(29\, 33\, 41)\; font-family:system-ui\,-apple-system\,system-ui\,.sfnstext-regular\,sans-serif\; font-size:14px">$5 Adults $10 Children</span><br />\n<span style="color:rgb(29\, 33\, 41)\; font-family:system-ui\,-apple-system\,system-ui\,.sfnstext-regular\,sans-serif\; font-size:14px">Kids 2 and under Free</span><br />\n<span style="color:#FF0000"><span style="font-size:14px">RSVP By December 3</span></span><br />\n<br />\n<span style="color:rgb(29\, 33\, 41)\; font-family:system-ui\,-apple-system\,system-ui\,.sfnstext-regular\,sans-serif\; font-size:14px">There will be Vendors for last minute Christmas shopping featuring lots of great items!</span><br />\n<br />\n<span style="color:rgb(29\, 33\, 41)\; font-family:system-ui\,-apple-system\,system-ui\,.sfnstext-regular\,sans-serif\; font-size:14px">Photos with The Grinch (Bring your own Camera)\, Magic Reindeer Food\, Christmas Craft\, Letter to Santa\, and Grinch Goody Bags!</span><br />\n<br />\n<span style="color:rgb(29\, 33\, 41)\; font-family:system-ui\,-apple-system\,system-ui\,.sfnstext-regular\,sans-serif\; font-size:14px">All proceeds go to Resident Aid. Call&nbsp\;</span>(434) 376-3717&nbsp\;for more information.&nbsp\;
LOCATION:
UID:e.845.15576
SEQUENCE:3
DTSTAMP:20260420T182032Z
URL:https://business.halifaxchamber.net/events/details/breakfast-with-the-grinch-15576
END:VEVENT

END:VCALENDAR
