BEGIN:VCALENDAR
VERSION:2.0
PRODID:-//ChamberMaster//Event Calendar 2.0//EN
METHOD:PUBLISH
X-PUBLISHED-TTL:P3D
REFRESH-INTERVAL:P3D
CALSCALE:GREGORIAN
BEGIN:VEVENT
DTSTART:20200523T120000Z
DTEND:20200523T150000Z
X-MICROSOFT-CDO-ALLDAYEVENT:FALSE
SUMMARY:Breakfast with The Packhouse
DESCRIPTION:The Packhouse will be serving breakfast at Halifax Farmers Market. You can have your order to go or enjoy your breakfast at the market. We will have picnic tables setup and spaced 6ft apart! Breakfast will be served 8am-11am!
X-ALT-DESC;FMTTYPE=text/html:<span style="color: rgb(5\, 5\, 5)\; font-family: system-ui\, -apple-system\, system-ui\, &quot\;.SFNSText-Regular&quot\;\, sans-serif\; font-size: 15px\;">The Packhouse will be serving breakfast at Halifax Farmers Market. You can have your order to go or enjoy your breakfast at the market. We will have picnic tables setup and spaced 6ft apart! Breakfast will be served 8am-11am!&nbsp\;</span>
LOCATION:Town of Halifax Farmers Market 209 S Main St Halifax\, VA 24558
UID:e.845.17664
SEQUENCE:3
DTSTAMP:20260420T095948Z
URL:https://business.halifaxchamber.net/events/details/breakfast-with-the-packhouse-17664
END:VEVENT

END:VCALENDAR
